BEGIN:VCALENDAR
VERSION:2.0
PRODID:-//www.thearcfamilyinstitute.org//NONSGML kigkonsult.se iCalcreator 
 2.30.10//
CALSCALE:GREGORIAN
METHOD:PUBLISH
UID:0c0381b4-5ff8-4633-80f9-70b99a67e351
X-WR-CALDESC:Join The Arc of NJ's Planning For Adult Life Program as we exp
 lore the world of work for individuals with disabilities. Wesley Anderson\
 , Director\, Training and Consultation Services\, will discuss the basics 
 of supported employment including what it is\, how individuals are support
 ed\, options available\, and what steps high school students can take to p
 repare for employment.
X-WR-RELCALID:ee28a013603838558e6e5430194b322d
X-WR-TIMEZONE:America/New_York
BEGIN:VTIMEZONE
TZID:America/New_York
BEGIN:STANDARD
TZNAME:EST
DTSTART:20171105T020000
TZOFFSETFROM:-0400
TZOFFSETTO:-0500
RDATE:20181104T020000
RDATE:20191103T020000
END:STANDARD
BEGIN:DAYLIGHT
TZNAME:EDT
DTSTART:20180311T020000
TZOFFSETFROM:-0500
TZOFFSETTO:-0400
RDATE:20190310T020000
RDATE:20200308T020000
END:DAYLIGHT
END:VTIMEZONE
BEGIN:VEVENT
UID:004d14bb-1d07-4037-aafe-c521f5965e53
DTSTAMP:20260423T125927Z
DESCRIPTION:Join The Arc of NJ's Planning For Adult Life Program as we expl
 ore the world of work for individuals with disabilities. Wesley Anderson\,
  Director\, Training and Consultation Services\, will discuss the basics o
 f supported employment including what it is\, how individuals are supporte
 d\, options available\, and what steps high school students can take to pr
 epare for employment.
DTSTART;TZID=America/New_York:20181017T180000
DTEND;TZID=America/New_York:20181017T190000
LOCATION:
SUMMARY:Webinar: Supported Employment 101: Learning About the World of Work
  for Students with Disabilities
END:VEVENT
END:VCALENDAR
