BEGIN:VCALENDAR
VERSION:2.0
PRODID:-//www.thearcfamilyinstitute.org//NONSGML kigkonsult.se iCalcreator 
 2.30.10//
CALSCALE:GREGORIAN
METHOD:PUBLISH
UID:26800a96-9335-4abf-aab7-a0637c5cf5d4
X-WR-CALDESC:What:    Status update on Fee for Service implementation\, Kom
 ninos’ Law\, Statewide HCBS Transition Plan\n\nWho:     Jonathan Seifried\
 , Acting Asst Commissioner\, DDD\n\n                Sara Adelman\, Deputy 
 Commissioner\, DHA
X-WR-RELCALID:d911e8390cf4900aabcbb5996b47b67b
X-WR-TIMEZONE:America/New_York
BEGIN:VTIMEZONE
TZID:America/New_York
BEGIN:STANDARD
TZNAME:EST
DTSTART:20171105T020000
TZOFFSETFROM:-0400
TZOFFSETTO:-0500
RDATE:20181104T020000
RDATE:20191103T020000
END:STANDARD
BEGIN:DAYLIGHT
TZNAME:EDT
DTSTART:20180311T020000
TZOFFSETFROM:-0500
TZOFFSETTO:-0400
RDATE:20190310T020000
RDATE:20200308T020000
END:DAYLIGHT
END:VTIMEZONE
BEGIN:VEVENT
UID:6eaf403c-52f6-4a79-a0ae-92c9662780d3
DTSTAMP:20260423T090215Z
DESCRIPTION:What:    Status update on Fee for Service implementation\, Komn
 inos’ Law\, Statewide HCBS Transition Plan\n\nWho:     Jonathan Seifried\,
  Acting Asst Commissioner\, DDD\n\n                Sara Adelman\, Deputy C
 ommissioner\, DHA
DTSTART;TZID=America/New_York:20181004T103000
DTEND;TZID=America/New_York:20181004T133000
LOCATION:All Saints’ Church\, Scotch Plains
SUMMARY:Public Forum and Provider Fair (Union and Somerset counties
END:VEVENT
END:VCALENDAR
