BEGIN:VCALENDAR
VERSION:2.0
PRODID:-//www.thearcfamilyinstitute.org//NONSGML kigkonsult.se iCalcreator 
 2.30.10//
CALSCALE:GREGORIAN
METHOD:PUBLISH
UID:14277091-0fe1-44fc-b796-509e7dec4bad
X-WR-CALDESC:Members of the public who are unable to attend a forum can sub
 mit written suggestions by email to feedback@dcf.nj.gov or by parcel post\
 , addressed to:\n\nCommissioner Christine Norbut Beyer\nc/o Listening Tour
  Input\nDepartment of Children and Families\nP.O. Box 729\nTrenton\, NJ 08
 625-0729\n\nFeedback should consider the below prompts:\n\nIn which DCF se
 rvices or programs have you participated and what aspects did you find use
 ful for your family? What aspects could be improved and how?\n\nDo you fee
 l there are gaps in DCF services or programs? If so\, where?\n\nHow would 
 you change the system of child welfare in the State of New Jersey?
X-WR-RELCALID:6dfda2ec2da1c97f7d11ad7f203f0b8e
X-WR-TIMEZONE:America/New_York
BEGIN:VTIMEZONE
TZID:America/New_York
BEGIN:STANDARD
TZNAME:EST
DTSTART:20171105T020000
TZOFFSETFROM:-0400
TZOFFSETTO:-0500
RDATE:20181104T020000
RDATE:20191103T020000
END:STANDARD
BEGIN:DAYLIGHT
TZNAME:EDT
DTSTART:20180311T020000
TZOFFSETFROM:-0500
TZOFFSETTO:-0400
RDATE:20190310T020000
RDATE:20200308T020000
END:DAYLIGHT
END:VTIMEZONE
BEGIN:VEVENT
UID:0466152a-c0f7-4792-9a28-4a678998a150
DTSTAMP:20260423T084953Z
DESCRIPTION:Members of the public who are unable to attend a forum can subm
 it written suggestions by email to feedback@dcf.nj.gov or by parcel post\,
  addressed to:\n\nCommissioner Christine Norbut Beyer\nc/o Listening Tour 
 Input\nDepartment of Children and Families\nP.O. Box 729\nTrenton\, NJ 086
 25-0729\n\nFeedback should consider the below prompts:\n\nIn which DCF ser
 vices or programs have you participated and what aspects did you find usef
 ul for your family? What aspects could be improved and how?\n\nDo you feel
  there are gaps in DCF services or programs? If so\, where?\n\nHow would y
 ou change the system of child welfare in the State of New Jersey?
DTSTART;TZID=America/New_York:20181004T180000
DTEND;TZID=America/New_York:20181004T190000
LOCATION:Warren County Library - Southwest Branch\, 404 County Road 519\, S
 tewartsville\, NJ 08886\,
SUMMARY:Meet the Commissioner
END:VEVENT
END:VCALENDAR
