BEGIN:VCALENDAR
VERSION:2.0
PRODID:-//www.thearcfamilyinstitute.org//NONSGML kigkonsult.se iCalcreator 
 2.30.10//
CALSCALE:GREGORIAN
METHOD:PUBLISH
UID:ffcd035d-1e6f-43a4-861a-d2c0c091613c
X-WR-CALDESC:
X-WR-RELCALID:a2020df14819d13ebdfaf86614639ab0
X-WR-TIMEZONE:America/New_York
BEGIN:VTIMEZONE
TZID:America/New_York
BEGIN:STANDARD
TZNAME:EST
DTSTART:20171105T020000
TZOFFSETFROM:-0400
TZOFFSETTO:-0500
RDATE:20181104T020000
RDATE:20191103T020000
END:STANDARD
BEGIN:DAYLIGHT
TZNAME:EDT
DTSTART:20180311T020000
TZOFFSETFROM:-0500
TZOFFSETTO:-0400
RDATE:20190310T020000
RDATE:20200308T020000
END:DAYLIGHT
END:VTIMEZONE
BEGIN:VEVENT
UID:e480329e-4616-49f5-b2ec-ae635503cf4a
DTSTAMP:20260423T090535Z
DESCRIPTION:
DTSTART;TZID=America/New_York:20181004T180000
DTEND;TZID=America/New_York:20181004T200000
LOCATION:Hamilton Library\, Room 2\, Ground Floor\, 1 Justice Samuel A. Ali
 to Jr Way\, Trenton\, NJ
SUMMARY:Informational Meeting -- Families & People with Disabilities Welcom
 e
END:VEVENT
END:VCALENDAR
