BEGIN:VCALENDAR
VERSION:2.0
PRODID:-//www.thearcfamilyinstitute.org//NONSGML kigkonsult.se iCalcreator 
 2.30.10//
CALSCALE:GREGORIAN
METHOD:PUBLISH
UID:8b93ad90-3bb5-444e-9821-c0c10706cc6b
X-WR-CALDESC:This conference for job seekers\, families \, educators\, empl
 oyers and service providers will focus on the practical information necess
 ary to find or create employment opportunities for people with disabilitie
 s. The program will include case studies\, employer presentations and info
 rmation on supports and resources available in the state of New Jersey.  A
 ttendees will also have the opportunity to meet with local companies with 
 an interest in hiring and training a diverse workforce.
X-WR-RELCALID:089b4aa2f39cb000a4201ca2b18a8832
X-WR-TIMEZONE:America/New_York
BEGIN:VTIMEZONE
TZID:America/New_York
BEGIN:STANDARD
TZNAME:EST
DTSTART:20171105T020000
TZOFFSETFROM:-0400
TZOFFSETTO:-0500
RDATE:20181104T020000
RDATE:20191103T020000
END:STANDARD
BEGIN:DAYLIGHT
TZNAME:EDT
DTSTART:20180311T020000
TZOFFSETFROM:-0500
TZOFFSETTO:-0400
RDATE:20190310T020000
RDATE:20200308T020000
END:DAYLIGHT
END:VTIMEZONE
BEGIN:VEVENT
UID:dafa28e8-8201-4702-8d35-e5d5e78dba66
DTSTAMP:20260423T085626Z
DESCRIPTION:This conference for job seekers\, families \, educators\, emplo
 yers and service providers will focus on the practical information necessa
 ry to find or create employment opportunities for people with disabilities
 . The program will include case studies\, employer presentations and infor
 mation on supports and resources available in the state of New Jersey.  At
 tendees will also have the opportunity to meet with local companies with a
 n interest in hiring and training a diverse workforce.
DTSTART;TZID=America/New_York:20181002T090000
DTEND;TZID=America/New_York:20181002T170000
LOCATION:Raritan Valley Community College\, 118 Lamington Road\, Branchburg
 \, NJ 08876
SUMMARY:New Jersey Conference on Disability and Employment
END:VEVENT
END:VCALENDAR
