BEGIN:VCALENDAR
VERSION:2.0
PRODID:-//www.thearcfamilyinstitute.org//NONSGML kigkonsult.se iCalcreator 
 2.30.10//
CALSCALE:GREGORIAN
METHOD:PUBLISH
UID:4c495911-841b-4ddc-ad9d-8e3ed923ee7c
X-WR-CALDESC:What:    Meet the Ombudsman\, Transition to Support Coordinati
 on\, Life Planning for a Family Member with I/DD\n\nWho:     Paul Aronsohn
 \, Ombudsman for People with I/DD\n\n               Neeta Das/Julian MacNe
 il\, Progressive Comprehensive Services\n\n               Ellen Nalven\, P
 LAN NJ
X-WR-RELCALID:caaad4bc78e1dc62f39acdee7f6ba606
X-WR-TIMEZONE:America/New_York
BEGIN:VTIMEZONE
TZID:America/New_York
BEGIN:STANDARD
TZNAME:EST
DTSTART:20171105T020000
TZOFFSETFROM:-0400
TZOFFSETTO:-0500
RDATE:20181104T020000
RDATE:20191103T020000
END:STANDARD
BEGIN:DAYLIGHT
TZNAME:EDT
DTSTART:20180311T020000
TZOFFSETFROM:-0500
TZOFFSETTO:-0400
RDATE:20190310T020000
RDATE:20200308T020000
END:DAYLIGHT
END:VTIMEZONE
BEGIN:VEVENT
UID:6e47c42b-6050-4819-8ad9-12018355e031
DTSTAMP:20260423T085741Z
DESCRIPTION:What:    Meet the Ombudsman\, Transition to Support Coordinatio
 n\, Life Planning for a Family Member with I/DD\n\nWho:     Paul Aronsohn\
 , Ombudsman for People with I/DD\n\n               Neeta Das/Julian MacNei
 l\, Progressive Comprehensive Services\n\n               Ellen Nalven\, PL
 AN NJ
DTSTART;TZID=America/New_York:20180927T180000
DTEND;TZID=America/New_York:20180927T210000
LOCATION:Mt Bethel Village\, Warren
SUMMARY:Public Forum and Provider Fair (Union and Somerset counties
END:VEVENT
END:VCALENDAR
