BEGIN:VCALENDAR
VERSION:2.0
PRODID:-//www.thearcfamilyinstitute.org//NONSGML kigkonsult.se iCalcreator 
 2.30.10//
CALSCALE:GREGORIAN
METHOD:PUBLISH
UID:9d817e58-3fb2-4d6f-aaec-a14912a9c9c3
X-WR-CALDESC:Whether you’re new to special education or have been involved 
 for a while\, this workshop is for you. This presentation provides familie
 s with an introduction to their rights and responsibilities as parents of 
 children with special needs under the Individuals with Disabilities Educat
 ion Act (IDEA)\, the New Jersey Code\, and Section 504 of the Vocational R
 ehabilitation Act. Parents begin to identify dreams and goals for their ch
 ildren\, understand laws and learn advocacy strategies that will help them
  help their children reach those goals. Parents of classified children and
  children who are having difficulty in school\, but may not be classified\
 , will benefit from this training.\n
X-WR-RELCALID:c7a693c8d749bee9124d618ad7de2df9
X-WR-TIMEZONE:America/New_York
BEGIN:VTIMEZONE
TZID:America/New_York
BEGIN:STANDARD
TZNAME:EST
DTSTART:20171105T020000
TZOFFSETFROM:-0400
TZOFFSETTO:-0500
RDATE:20181104T020000
RDATE:20191103T020000
END:STANDARD
BEGIN:DAYLIGHT
TZNAME:EDT
DTSTART:20180311T020000
TZOFFSETFROM:-0500
TZOFFSETTO:-0400
RDATE:20190310T020000
RDATE:20200308T020000
END:DAYLIGHT
END:VTIMEZONE
BEGIN:VEVENT
UID:610ada2b-7d36-4b37-ab9f-6a622e6cfcd7
DTSTAMP:20260421T125643Z
DESCRIPTION:Whether you’re new to special education or have been involved f
 or a while\, this workshop is for you. This presentation provides families
  with an introduction to their rights and responsibilities as parents of c
 hildren with special needs under the Individuals with Disabilities Educati
 on Act (IDEA)\, the New Jersey Code\, and Section 504 of the Vocational Re
 habilitation Act. Parents begin to identify dreams and goals for their chi
 ldren\, understand laws and learn advocacy strategies that will help them 
 help their children reach those goals. Parents of classified children and 
 children who are having difficulty in school\, but may not be classified\,
  will benefit from this training.\n
DTSTART;TZID=America/New_York:20180926T183000
DTEND;TZID=America/New_York:20180926T203000
LOCATION:SCARC Hampton Community Center\, 4 Camre Drive\, Newton\, NJ
SUMMARY:SCARC (The Arc of Sussex): Basic Rights In Special Education
END:VEVENT
END:VCALENDAR
