BEGIN:VCALENDAR
VERSION:2.0
PRODID:-//www.thearcfamilyinstitute.org//NONSGML kigkonsult.se iCalcreator 
 2.30.10//
CALSCALE:GREGORIAN
METHOD:PUBLISH
UID:e95ece48-db60-484c-a6f8-44fadd04d73f
X-WR-CALDESC:Leigh Ann Davis\, of the National Center on Criminal Justice a
 nd Developmental Disabilities\, will provide an update of the resource ava
 ilable through the National Center\, an overview of training initiatives b
 eing implemented by the Center and its partners\, as well as a 'state of t
 he nation' review of issues important to this population.
X-WR-RELCALID:fd3a73313b03374ac0289caa96262d39
X-WR-TIMEZONE:America/New_York
BEGIN:VTIMEZONE
TZID:America/New_York
BEGIN:STANDARD
TZNAME:EST
DTSTART:20171105T020000
TZOFFSETFROM:-0400
TZOFFSETTO:-0500
RDATE:20181104T020000
RDATE:20191103T020000
END:STANDARD
BEGIN:DAYLIGHT
TZNAME:EDT
DTSTART:20180311T020000
TZOFFSETFROM:-0500
TZOFFSETTO:-0400
RDATE:20190310T020000
RDATE:20200308T020000
END:DAYLIGHT
END:VTIMEZONE
BEGIN:VEVENT
UID:d3658adf-014e-4b3e-bd2c-56f3ea88b951
DTSTAMP:20260423T085446Z
DESCRIPTION:Leigh Ann Davis\, of the National Center on Criminal Justice an
 d Developmental Disabilities\, will provide an update of the resource avai
 lable through the National Center\, an overview of training initiatives be
 ing implemented by the Center and its partners\, as well as a 'state of th
 e nation' review of issues important to this population.
DTSTART;TZID=America/New_York:20180920T140000
DTEND;TZID=America/New_York:20180920T150000
LOCATION:
SUMMARY:Webinar: Creating Pathways to Justice for People with I/DD in 2018 
 and Beyond
END:VEVENT
END:VCALENDAR
