BEGIN:VCALENDAR
VERSION:2.0
PRODID:-//www.thearcfamilyinstitute.org//NONSGML kigkonsult.se iCalcreator 
 2.30.10//
CALSCALE:GREGORIAN
METHOD:PUBLISH
UID:49c4f1fc-ad80-4fe7-b0a9-21552ab569b6
X-WR-CALDESC:It is essential that all people\, including those with intelle
 ctual and developmental disabilities\, understand and practice community s
 afety skills. Observing common safety rules and practices is crucial to pr
 event unnecessary harm. This webinar will explain potential unsafe situati
 ons and will provide strategies for community safety\, injury prevention\,
  and getting help when needed. Attendees will learn about pedestrian and p
 assenger safety issues\, water safety\, prevention and response strategies
  for a person who has eloped or wandered\, and internet safety. \n\nThis w
 ebinar is hosted by The Arc of New Jersey Family Institute and is presente
 d by Adrienne Robertiello\, a Special Health Care Educator at Children’s S
 pecialized Hospital.
X-WR-RELCALID:93b296e3295ca3567cd090340789b036
X-WR-TIMEZONE:America/New_York
BEGIN:VTIMEZONE
TZID:America/New_York
BEGIN:STANDARD
TZNAME:EST
DTSTART:20171105T020000
TZOFFSETFROM:-0400
TZOFFSETTO:-0500
RDATE:20181104T020000
RDATE:20191103T020000
END:STANDARD
BEGIN:DAYLIGHT
TZNAME:EDT
DTSTART:20180311T020000
TZOFFSETFROM:-0500
TZOFFSETTO:-0400
RDATE:20190310T020000
RDATE:20200308T020000
END:DAYLIGHT
END:VTIMEZONE
BEGIN:VEVENT
UID:39f48227-e00f-4b6b-9701-2dfc55a6ec63
DTSTAMP:20260423T104437Z
DESCRIPTION:It is essential that all people\, including those with intellec
 tual and developmental disabilities\, understand and practice community sa
 fety skills. Observing common safety rules and practices is crucial to pre
 vent unnecessary harm. This webinar will explain potential unsafe situatio
 ns and will provide strategies for community safety\, injury prevention\, 
 and getting help when needed. Attendees will learn about pedestrian and pa
 ssenger safety issues\, water safety\, prevention and response strategies 
 for a person who has eloped or wandered\, and internet safety. \n\nThis we
 binar is hosted by The Arc of New Jersey Family Institute and is presented
  by Adrienne Robertiello\, a Special Health Care Educator at Children’s Sp
 ecialized Hospital.
DTSTART;TZID=America/New_York:20180920T120000
DTEND;TZID=America/New_York:20180920T130000
LOCATION:
SUMMARY:Webinar: Community Safety & Wandering Prevention for Children and A
 dults with Intellectual and Developmental Disabilities
END:VEVENT
END:VCALENDAR
