BEGIN:VCALENDAR
VERSION:2.0
PRODID:-//www.thearcfamilyinstitute.org//NONSGML kigkonsult.se iCalcreator 
 2.30.10//
CALSCALE:GREGORIAN
METHOD:PUBLISH
UID:60dec620-c698-451a-9160-a2f0177a12ce
X-WR-CALDESC:
X-WR-RELCALID:72bc762b5eac18dffebee35ef28a67f0
X-WR-TIMEZONE:America/New_York
BEGIN:VTIMEZONE
TZID:America/New_York
BEGIN:STANDARD
TZNAME:EST
DTSTART:20171105T020000
TZOFFSETFROM:-0400
TZOFFSETTO:-0500
RDATE:20181104T020000
RDATE:20191103T020000
END:STANDARD
BEGIN:DAYLIGHT
TZNAME:EDT
DTSTART:20180311T020000
TZOFFSETFROM:-0500
TZOFFSETTO:-0400
RDATE:20190310T020000
RDATE:20200308T020000
END:DAYLIGHT
END:VTIMEZONE
BEGIN:VEVENT
UID:3f051ea2-ef7c-427b-80b7-05d07a24bfd7
DTSTAMP:20260423T084953Z
DESCRIPTION:
DTSTART;TZID=America/New_York:20180920T170000
DTEND;TZID=America/New_York:20180920T200000
LOCATION:Burlington County Special Services High School\, 20 Pioneer Boulev
 ard\, Westampton
SUMMARY:Transition Fair (Burlington County)
END:VEVENT
END:VCALENDAR
