BEGIN:VCALENDAR
VERSION:2.0
PRODID:-//www.thearcfamilyinstitute.org//NONSGML kigkonsult.se iCalcreator 
 2.30.10//
CALSCALE:GREGORIAN
METHOD:PUBLISH
UID:a21ff122-be73-4f55-888a-833e0ec6bfa2
X-WR-CALDESC:Please join us as Hinkle\, Fingles\, Prior\, and Fischer\, Att
 orneys at Law discuss the process of accessing after school programs and h
 ow families can work with school personnel to make sure after school progr
 ams are made available to all students\, regardless of whether they have a
  disability.
X-WR-RELCALID:38c922c1693c3d5517ef3b5d7c059e76
X-WR-TIMEZONE:America/New_York
BEGIN:VTIMEZONE
TZID:America/New_York
BEGIN:STANDARD
TZNAME:EST
DTSTART:20171105T020000
TZOFFSETFROM:-0400
TZOFFSETTO:-0500
RDATE:20181104T020000
RDATE:20191103T020000
END:STANDARD
BEGIN:DAYLIGHT
TZNAME:EDT
DTSTART:20180311T020000
TZOFFSETFROM:-0500
TZOFFSETTO:-0400
RDATE:20190310T020000
RDATE:20200308T020000
END:DAYLIGHT
END:VTIMEZONE
BEGIN:VEVENT
UID:f505946e-8091-43c1-be6b-cd8c1d38d20e
DTSTAMP:20260423T091301Z
DESCRIPTION:Please join us as Hinkle\, Fingles\, Prior\, and Fischer\, Atto
 rneys at Law discuss the process of accessing after school programs and ho
 w families can work with school personnel to make sure after school progra
 ms are made available to all students\, regardless of whether they have a 
 disability.
DTSTART;TZID=America/New_York:20180918T180000
DTEND;TZID=America/New_York:20180918T190000
LOCATION:
SUMMARY:Webinar: Accessing After School  Programs for Students with Intelle
 ctual and  Developmental Disabilities
END:VEVENT
END:VCALENDAR
