BEGIN:VCALENDAR
VERSION:2.0
PRODID:-//www.thearcfamilyinstitute.org//NONSGML kigkonsult.se iCalcreator 
 2.30.10//
CALSCALE:GREGORIAN
METHOD:PUBLISH
UID:bbb1c632-435b-4cb4-b2f3-c476623cb5d3
X-WR-CALDESC:This events will be an opportunity for voters with disabilitie
 s\, their family members and candidates to discuss issues important to our
  community this upcoming election. Voters with disabilities can make their
  voices heard on disability issues while also learning about candidates' p
 latforms so they can make educated decisions in the upcoming election.\n\n
 REVUP-NJ along with NJ's Centers for Independent Living are in the process
  of scheduling the remaining 11 Congressional District Forums.
X-WR-RELCALID:2897e3e28fbcd89bc9003f14ae776e62
X-WR-TIMEZONE:America/New_York
BEGIN:VTIMEZONE
TZID:America/New_York
BEGIN:STANDARD
TZNAME:EST
DTSTART:20171105T020000
TZOFFSETFROM:-0400
TZOFFSETTO:-0500
RDATE:20181104T020000
RDATE:20191103T020000
END:STANDARD
BEGIN:DAYLIGHT
TZNAME:EDT
DTSTART:20180311T020000
TZOFFSETFROM:-0500
TZOFFSETTO:-0400
RDATE:20190310T020000
RDATE:20200308T020000
END:DAYLIGHT
END:VTIMEZONE
BEGIN:VEVENT
UID:4baff4c7-ad45-49d2-9cae-d3bcb6ae6758
DTSTAMP:20260423T104952Z
DESCRIPTION:This events will be an opportunity for voters with disabilities
 \, their family members and candidates to discuss issues important to our 
 community this upcoming election. Voters with disabilities can make their 
 voices heard on disability issues while also learning about candidates' pl
 atforms so they can make educated decisions in the upcoming election.\n\nR
 EVUP-NJ along with NJ's Centers for Independent Living are in the process 
 of scheduling the remaining 11 Congressional District Forums.
DTSTART;TZID=America/New_York:20180914T180000
DTEND;TZID=America/New_York:20180914T200000
LOCATION:Middlesex County College\, West Hall\, 2600 Woodbridge Ave.\, Edis
 on\, NJ
SUMMARY:U.S. Senate Candidate Disability Forum
END:VEVENT
END:VCALENDAR
