BEGIN:VCALENDAR
VERSION:2.0
PRODID:-//www.thearcfamilyinstitute.org//NONSGML kigkonsult.se iCalcreator 
 2.30.10//
CALSCALE:GREGORIAN
METHOD:PUBLISH
UID:0e626c11-b9b0-4608-8394-47ca0ac75a4b
X-WR-CALDESC:Presented by ACI and REV UP NJ and funded by Disability Rights
  New Jersey through their PAVA Program.\n\nA non-partisan event for candid
 ates and voters to come together to discuss important issues facing the di
 sability community. Open to the public!\n\nRefreshments will be provided.
 \n\nAccommodations available upon request. ASL Interpreter will be availab
 le.
X-WR-RELCALID:7732feb9bb12935c1e24feb9c905f463
X-WR-TIMEZONE:America/New_York
BEGIN:VTIMEZONE
TZID:America/New_York
BEGIN:STANDARD
TZNAME:EST
DTSTART:20171105T020000
TZOFFSETFROM:-0400
TZOFFSETTO:-0500
RDATE:20181104T020000
RDATE:20191103T020000
END:STANDARD
BEGIN:DAYLIGHT
TZNAME:EDT
DTSTART:20180311T020000
TZOFFSETFROM:-0500
TZOFFSETTO:-0400
RDATE:20190310T020000
END:DAYLIGHT
END:VTIMEZONE
BEGIN:VEVENT
UID:987320e1-30b6-4acc-9c59-ffb2a47e6e01
DTSTAMP:20260423T104309Z
DESCRIPTION:Presented by ACI and REV UP NJ and funded by Disability Rights 
 New Jersey through their PAVA Program.\n\nA non-partisan event for candida
 tes and voters to come together to discuss important issues facing the dis
 ability community. Open to the public!\n\nRefreshments will be provided.\n
 \nAccommodations available upon request. ASL Interpreter will be available
 .
DTSTART;TZID=America/New_York:20180827T180000
DTEND;TZID=America/New_York:20180827T200000
LOCATION:ACI\, 629 Amboy Avenue Edison\, NJ\, 08837
SUMMARY:US Congress District 6 Candidate Forum
END:VEVENT
END:VCALENDAR
