BEGIN:VCALENDAR
VERSION:2.0
PRODID:-//www.thearcfamilyinstitute.org//NONSGML kigkonsult.se iCalcreator 
 2.30.10//
CALSCALE:GREGORIAN
METHOD:PUBLISH
UID:4a8e4251-bade-4696-a30a-93a24300506e
X-WR-CALDESC:exuality is a natural part life for all people. However\, peop
 le with developmental disabilities\, family members\, and professionals of
 ten feel unprepared to discuss this subject with each other. This webinar 
 explains why it is important for people\, parents\, and families to talk a
 bout sexuality and healthy intimate relationships. Our presenters will dis
 cuss common misperceptions and myths people have about people with I/DD an
 d sexuality\; what a healthy\, relationship looks like and how you can hel
 p support people to have healthy relationships\; and how to prevent abusiv
 e relationships or leave bad relationships. Our presenters will also discu
 ss ways you can start discussing this subject with people with disabilitie
 s in your life.
X-WR-RELCALID:19128f6e306d04d2abc6fee863ff74b9
X-WR-TIMEZONE:America/New_York
BEGIN:VTIMEZONE
TZID:America/New_York
BEGIN:STANDARD
TZNAME:EST
DTSTART:20171105T020000
TZOFFSETFROM:-0400
TZOFFSETTO:-0500
RDATE:20181104T020000
RDATE:20191103T020000
END:STANDARD
BEGIN:DAYLIGHT
TZNAME:EDT
DTSTART:20180311T020000
TZOFFSETFROM:-0500
TZOFFSETTO:-0400
RDATE:20190310T020000
END:DAYLIGHT
END:VTIMEZONE
BEGIN:VEVENT
UID:275d07ef-5c4a-480b-a201-fbc250adb388
DTSTAMP:20260423T104502Z
DESCRIPTION:exuality is a natural part life for all people. However\, peopl
 e with developmental disabilities\, family members\, and professionals oft
 en feel unprepared to discuss this subject with each other. This webinar e
 xplains why it is important for people\, parents\, and families to talk ab
 out sexuality and healthy intimate relationships. Our presenters will disc
 uss common misperceptions and myths people have about people with I/DD and
  sexuality\; what a healthy\, relationship looks like and how you can help
  support people to have healthy relationships\; and how to prevent abusive
  relationships or leave bad relationships. Our presenters will also discus
 s ways you can start discussing this subject with people with disabilities
  in your life.
DTSTART;TZID=America/New_York:20180821T140000
DTEND;TZID=America/New_York:20180821T150000
LOCATION:
SUMMARY:Webinar: The Importance of talking about sex - the elephant in the 
 room
END:VEVENT
END:VCALENDAR
