BEGIN:VCALENDAR
VERSION:2.0
PRODID:-//www.thearcfamilyinstitute.org//NONSGML kigkonsult.se iCalcreator 
 2.30.10//
CALSCALE:GREGORIAN
METHOD:PUBLISH
UID:c4ae6560-0475-445d-a4fa-c242cfa0a1b0
X-WR-CALDESC:As the service delivery system changes\, all people with devel
 opmental disabilities receiving services through DDD will be able to choos
 e a support coordination agency along with the services they receive. This
  training will provide families with the information they need about suppo
 rt coordination. Participants will also learn how to help their family mem
 bers select a support coordination agency that will best meet their needs\
 , work in partnership with the support coordinator throughout the person c
 entered planning process\, and identify service providers to help their fa
 mily member achieve the life he or she wants.
X-WR-RELCALID:50221623e5c792505dbfd0bfca94b3c8
X-WR-TIMEZONE:America/New_York
BEGIN:VTIMEZONE
TZID:America/New_York
BEGIN:STANDARD
TZNAME:EST
DTSTART:20171105T020000
TZOFFSETFROM:-0400
TZOFFSETTO:-0500
RDATE:20181104T020000
RDATE:20191103T020000
END:STANDARD
BEGIN:DAYLIGHT
TZNAME:EDT
DTSTART:20180311T020000
TZOFFSETFROM:-0500
TZOFFSETTO:-0400
RDATE:20190310T020000
END:DAYLIGHT
END:VTIMEZONE
BEGIN:VEVENT
UID:05efdf67-3235-4558-b5a0-03fc8b93d9ea
DTSTAMP:20260423T125821Z
DESCRIPTION:As the service delivery system changes\, all people with develo
 pmental disabilities receiving services through DDD will be able to choose
  a support coordination agency along with the services they receive. This 
 training will provide families with the information they need about suppor
 t coordination. Participants will also learn how to help their family memb
 ers select a support coordination agency that will best meet their needs\,
  work in partnership with the support coordinator throughout the person ce
 ntered planning process\, and identify service providers to help their fam
 ily member achieve the life he or she wants.
DTSTART;TZID=America/New_York:20180727T100000
DTEND;TZID=America/New_York:20180727T130000
LOCATION:Woodbridge Library - Fords Branch 211 Ford Ave.\, Fords\, NJ 08863
SUMMARY:The Family and Support Coordination Partnership:  Making Choices\, 
 Becoming Empowered\, and Supporting the Life Your Family Member Wants (Mid
 dlesex County)
END:VEVENT
END:VCALENDAR
