BEGIN:VCALENDAR
VERSION:2.0
PRODID:-//www.thearcfamilyinstitute.org//NONSGML kigkonsult.se iCalcreator 
 2.30.10//
CALSCALE:GREGORIAN
METHOD:PUBLISH
UID:07416c01-0702-491f-b1a7-629ed144eec8
X-WR-CALDESC:The Employment First State Leadership Mentoring Program Commun
 ity of Practice Webinar on “Applying WIOA Pre-ETS for Transitioning Studen
 ts and Youth” will be held on July 11 from 3:00 to 4:30 p.m. eastern. The 
 Workforce Innovation and Opportunity Act represents a significant change i
 n how state vocational rehabilitation programs interact with schools and o
 ffer services to students and youth preparing to transition from school to
  adult employment. The implementation of Pre-Employment Transition Service
 s\, a way for VR to authorize services while students are in secondary sch
 ool\, is still relatively new. VR agencies and schools throughout the coun
 try are continuing to learn how\, when\, and under what circumstances to e
 ffectively apply Pre-ETS within the parameters of WIOA requirements. This 
 webinar will provide information on the current state of Pre-ETS implement
 ation in the country.
X-WR-RELCALID:12cc73878f576c076f27e14ccb900f54
X-WR-TIMEZONE:America/New_York
BEGIN:VTIMEZONE
TZID:America/New_York
BEGIN:STANDARD
TZNAME:EST
DTSTART:20171105T020000
TZOFFSETFROM:-0400
TZOFFSETTO:-0500
RDATE:20181104T020000
RDATE:20191103T020000
END:STANDARD
BEGIN:DAYLIGHT
TZNAME:EDT
DTSTART:20180311T020000
TZOFFSETFROM:-0500
TZOFFSETTO:-0400
RDATE:20190310T020000
END:DAYLIGHT
END:VTIMEZONE
BEGIN:VEVENT
UID:1f06d899-e909-4668-85ba-a3e7cbd58e38
DTSTAMP:20260423T123525Z
DESCRIPTION:The Employment First State Leadership Mentoring Program Communi
 ty of Practice Webinar on “Applying WIOA Pre-ETS for Transitioning Student
 s and Youth” will be held on July 11 from 3:00 to 4:30 p.m. eastern. The W
 orkforce Innovation and Opportunity Act represents a significant change in
  how state vocational rehabilitation programs interact with schools and of
 fer services to students and youth preparing to transition from school to 
 adult employment. The implementation of Pre-Employment Transition Services
 \, a way for VR to authorize services while students are in secondary scho
 ol\, is still relatively new. VR agencies and schools throughout the count
 ry are continuing to learn how\, when\, and under what circumstances to ef
 fectively apply Pre-ETS within the parameters of WIOA requirements. This w
 ebinar will provide information on the current state of Pre-ETS implementa
 tion in the country.
DTSTART;TZID=America/New_York:20180711T150000
DTEND;TZID=America/New_York:20180711T160000
LOCATION:
SUMMARY:Webinar: Applying WIOA Pre-ETS for Transitioning Students and Youth
END:VEVENT
END:VCALENDAR
