BEGIN:VCALENDAR
VERSION:2.0
PRODID:-//www.thearcfamilyinstitute.org//NONSGML kigkonsult.se iCalcreator 
 2.30.10//
CALSCALE:GREGORIAN
METHOD:PUBLISH
UID:d6c2b234-16cf-4522-988b-c66017ffa780
X-WR-CALDESC:Fathers\, grandfathers\, stepfathers\, brothers and male careg
 ivers this event is for you. Keynote\, panel discussion\, networking oppor
 tunities and more! This event is FREE!\n\nSpanish translation will be avai
 lable. Para información en español: 973-337-7329\n
X-WR-RELCALID:a24f01dcc984475a12d1a2c1ee34b97b
X-WR-TIMEZONE:America/New_York
BEGIN:VTIMEZONE
TZID:America/New_York
BEGIN:STANDARD
TZNAME:EST
DTSTART:20171105T020000
TZOFFSETFROM:-0400
TZOFFSETTO:-0500
RDATE:20181104T020000
RDATE:20191103T020000
END:STANDARD
BEGIN:DAYLIGHT
TZNAME:EDT
DTSTART:20180311T020000
TZOFFSETFROM:-0500
TZOFFSETTO:-0400
RDATE:20190310T020000
END:DAYLIGHT
END:VTIMEZONE
BEGIN:VEVENT
UID:9939e464-c7f7-48f0-828d-b2ba3dcd1195
DTSTAMP:20260423T143523Z
DESCRIPTION:Fathers\, grandfathers\, stepfathers\, brothers and male caregi
 vers this event is for you. Keynote\, panel discussion\, networking opport
 unities and more! This event is FREE!\n\nSpanish translation will be avail
 able. Para información en español: 973-337-7329\n
DTSTART;TZID=America/New_York:20180630T090000
DTEND;TZID=America/New_York:20180630T130000
LOCATION:St. Charles Borromeo Religious Education Center\, 176 Stagecoach R
 oad\, Sicklerville\, NJ 08081
SUMMARY:Mini-Conference for Fathers of Children with Special Needs
END:VEVENT
END:VCALENDAR
