BEGIN:VCALENDAR
VERSION:2.0
PRODID:-//www.thearcfamilyinstitute.org//NONSGML kigkonsult.se iCalcreator 
 2.30.10//
CALSCALE:GREGORIAN
METHOD:PUBLISH
UID:c9e2b14c-b95d-4554-ad34-7f5845a7b0b6
X-WR-CALDESC:The ORIGINAL comprehensive New Jersey conference focused solel
 y on inclusive education shares with attendees: the benefits\, process\, s
 tandards and goals to support student growth and the meaningful education 
 of ALL children\; applicable training and information based on practical e
 xperiences in how to make multi-ability classrooms work for ALL!\n\n**Redu
 ced rate options for:  1.) Parents of child(ren) with disabilities\; 2.) S
 elf Advocates\; 3.) Currently enrolled College and Graduate students
X-WR-RELCALID:c62a3915bb03cd696614bcd397e043d6
X-WR-TIMEZONE:America/New_York
BEGIN:VTIMEZONE
TZID:America/New_York
BEGIN:STANDARD
TZNAME:EST
DTSTART:20171105T020000
TZOFFSETFROM:-0400
TZOFFSETTO:-0500
RDATE:20181104T020000
RDATE:20191103T020000
END:STANDARD
BEGIN:DAYLIGHT
TZNAME:EDT
DTSTART:20180311T020000
TZOFFSETFROM:-0500
TZOFFSETTO:-0400
RDATE:20190310T020000
END:DAYLIGHT
END:VTIMEZONE
BEGIN:VEVENT
UID:d965e4dd-5e86-4d5f-b277-8ede9800897b
DTSTAMP:20260423T143503Z
DESCRIPTION:The ORIGINAL comprehensive New Jersey conference focused solely
  on inclusive education shares with attendees: the benefits\, process\, st
 andards and goals to support student growth and the meaningful education o
 f ALL children\; applicable training and information based on practical ex
 periences in how to make multi-ability classrooms work for ALL!\n\n**Reduc
 ed rate options for:  1.) Parents of child(ren) with disabilities\; 2.) Se
 lf Advocates\; 3.) Currently enrolled College and Graduate students
DTSTART;TZID=America/New_York:20180628T000000
DTEND;TZID=America/New_York:20180629T235900
LOCATION:Montclair State University\, 1 Normal Ave\, Montclair\, NJ 07043
SUMMARY:NJCIE's 16th Annual Summer Inclusion Conference
END:VEVENT
END:VCALENDAR
