BEGIN:VCALENDAR
VERSION:2.0
PRODID:-//www.thearcfamilyinstitute.org//NONSGML kigkonsult.se iCalcreator 
 2.30.10//
CALSCALE:GREGORIAN
METHOD:PUBLISH
UID:b98c8f7b-2db1-4ac2-a98f-2e8c5e02c9fd
X-WR-CALDESC:This hour long webinar on Legal-Medical Partnerships with spea
 ker Erika Kerber\, Esq.\, Director of Litigation\, Community Health Law Pr
 oject\, will provide an overview of an effective model of cooperation betw
 een medical and legal professionals who serve people with intellectual and
  developmental disabilities.
X-WR-RELCALID:79f5fa97f001f5b8ba733237f79e34cd
X-WR-TIMEZONE:America/New_York
BEGIN:VTIMEZONE
TZID:America/New_York
BEGIN:STANDARD
TZNAME:EST
DTSTART:20171105T020000
TZOFFSETFROM:-0400
TZOFFSETTO:-0500
RDATE:20181104T020000
RDATE:20191103T020000
END:STANDARD
BEGIN:DAYLIGHT
TZNAME:EDT
DTSTART:20180311T020000
TZOFFSETFROM:-0500
TZOFFSETTO:-0400
RDATE:20190310T020000
END:DAYLIGHT
END:VTIMEZONE
BEGIN:VEVENT
UID:8637ab8a-a2d7-4c92-a1ea-b2efb4adb0d2
DTSTAMP:20260423T143713Z
DESCRIPTION:This hour long webinar on Legal-Medical Partnerships with speak
 er Erika Kerber\, Esq.\, Director of Litigation\, Community Health Law Pro
 ject\, will provide an overview of an effective model of cooperation betwe
 en medical and legal professionals who serve people with intellectual and 
 developmental disabilities.
DTSTART;TZID=America/New_York:20180628T130000
DTEND;TZID=America/New_York:20180628T140000
LOCATION:
SUMMARY:Free Webinar: Legal-Medical Partnerships
END:VEVENT
END:VCALENDAR
