BEGIN:VCALENDAR
VERSION:2.0
PRODID:-//www.thearcfamilyinstitute.org//NONSGML kigkonsult.se iCalcreator 
 2.30.10//
CALSCALE:GREGORIAN
METHOD:PUBLISH
UID:f89ffd81-0041-4161-8ce7-753807959276
X-WR-CALDESC:Providers will include:\n Social services\n Healthcare\n Ed
 ucational supports\n Recreational programs
X-WR-RELCALID:8e60ec9ed3797cbc219f785c62d81c08
X-WR-TIMEZONE:America/New_York
BEGIN:VTIMEZONE
TZID:America/New_York
BEGIN:STANDARD
TZNAME:EST
DTSTART:20171105T020000
TZOFFSETFROM:-0400
TZOFFSETTO:-0500
RDATE:20181104T020000
RDATE:20191103T020000
END:STANDARD
BEGIN:DAYLIGHT
TZNAME:EDT
DTSTART:20180311T020000
TZOFFSETFROM:-0500
TZOFFSETTO:-0400
RDATE:20190310T020000
END:DAYLIGHT
END:VTIMEZONE
BEGIN:VEVENT
UID:7ece673c-1da7-41dd-91c7-600deb218de5
DTSTAMP:20260423T143348Z
DESCRIPTION:Providers will include:\n Social services\n Healthcare\n Edu
 cational supports\n Recreational programs
DTSTART;TZID=America/New_York:20180615T100000
DTEND;TZID=America/New_York:20180615T130000
LOCATION:Mercer County Family Support Organization\, 3535 Quakerbridge Road
 \, Suite 400  Hamilton\, NJ 08619
SUMMARY:Provider Fair (Mercer County)
END:VEVENT
END:VCALENDAR
