BEGIN:VCALENDAR
VERSION:2.0
PRODID:-//www.thearcfamilyinstitute.org//NONSGML kigkonsult.se iCalcreator 
 2.30.10//
CALSCALE:GREGORIAN
METHOD:PUBLISH
UID:561c9a75-ae81-4984-9a74-f81752bb28b0
X-WR-CALDESC:Transition planning is crucial to increasing successful outcom
 es for life after high school. This workshop will discuss issues related t
 o transitioning from school to adult life. Activities and discussion to he
 lp identify interests and future plans will be included. Strategies for de
 veloping appropriate goals as part of the IEP process will be offered. Par
 ents and students will be informed about resources in the community they c
 an connect with to build linkages\, and ensure a dignified life as a contr
 ibuting and participating member of their community.
X-WR-RELCALID:e7314c228d5d6c7e5f4aec6127ba1c2a
X-WR-TIMEZONE:America/New_York
BEGIN:VTIMEZONE
TZID:America/New_York
BEGIN:STANDARD
TZNAME:EST
DTSTART:20171105T020000
TZOFFSETFROM:-0400
TZOFFSETTO:-0500
RDATE:20181104T020000
RDATE:20191103T020000
END:STANDARD
BEGIN:DAYLIGHT
TZNAME:EDT
DTSTART:20180311T020000
TZOFFSETFROM:-0500
TZOFFSETTO:-0400
RDATE:20190310T020000
END:DAYLIGHT
END:VTIMEZONE
BEGIN:VEVENT
UID:95bb4da1-1bfc-4ef4-bfe0-8753c00f7d00
DTSTAMP:20260423T144736Z
DESCRIPTION:Transition planning is crucial to increasing successful outcome
 s for life after high school. This workshop will discuss issues related to
  transitioning from school to adult life. Activities and discussion to hel
 p identify interests and future plans will be included. Strategies for dev
 eloping appropriate goals as part of the IEP process will be offered. Pare
 nts and students will be informed about resources in the community they ca
 n connect with to build linkages\, and ensure a dignified life as a contri
 buting and participating member of their community.
DTSTART;TZID=America/New_York:20180607T183000
DTEND;TZID=America/New_York:20180607T193000
LOCATION:SCARC Hampton Community Center\, 4 CamreDrive\, Newton\, NJ 07860
SUMMARY:Look To The Future: Transition from School to Adult Life (The Arc o
 f Sussex\, SCARC)
END:VEVENT
END:VCALENDAR
