BEGIN:VCALENDAR
VERSION:2.0
PRODID:-//www.thearcfamilyinstitute.org//NONSGML kigkonsult.se iCalcreator 
 2.30.10//
CALSCALE:GREGORIAN
METHOD:PUBLISH
UID:3d6c6e6d-603d-4561-bbe0-1b48cbd3a151
X-WR-CALDESC:Financial literacy and money management training is a critical
  component that is often missing from job preparation for individuals with
  disabilities. Earning a living through employment is often cited as the r
 oad to independence\, but proper management of those earnings is how we ac
 cess our needs\, wants\, items\, and opportunities. This supplemental will
  focus on the foundational elements of financial literacy\, including: ass
 essing money values\, creating person-centered monetary goals\, conservati
 ve budgeting\, retirement plans\, Social Security benefits considerations\
 , and more. Participants will leave the session with increased knowledge o
 f financial literacy and many ways to disseminate these topics to the indi
 viduals they serve\, regardless of academic level.
X-WR-RELCALID:3d3f90691c06b522b6bb6f6293f22151
X-WR-TIMEZONE:America/New_York
BEGIN:VTIMEZONE
TZID:America/New_York
BEGIN:STANDARD
TZNAME:EST
DTSTART:20171105T020000
TZOFFSETFROM:-0400
TZOFFSETTO:-0500
RDATE:20181104T020000
RDATE:20191103T020000
END:STANDARD
BEGIN:DAYLIGHT
TZNAME:EDT
DTSTART:20180311T020000
TZOFFSETFROM:-0500
TZOFFSETTO:-0400
RDATE:20190310T020000
END:DAYLIGHT
END:VTIMEZONE
BEGIN:VEVENT
UID:91fface4-38b1-4f28-9261-6eedb64a81fb
DTSTAMP:20260423T143503Z
DESCRIPTION:Financial literacy and money management training is a critical 
 component that is often missing from job preparation for individuals with 
 disabilities. Earning a living through employment is often cited as the ro
 ad to independence\, but proper management of those earnings is how we acc
 ess our needs\, wants\, items\, and opportunities. This supplemental will 
 focus on the foundational elements of financial literacy\, including: asse
 ssing money values\, creating person-centered monetary goals\, conservativ
 e budgeting\, retirement plans\, Social Security benefits considerations\,
  and more. Participants will leave the session with increased knowledge of
  financial literacy and many ways to disseminate these topics to the indiv
 iduals they serve\, regardless of academic level.
DTSTART;TZID=America/New_York:20180604T100000
DTEND;TZID=America/New_York:20180604T130000
LOCATION:RGCG ACT Center\, 530 Salina Road\, Sewell\, NJ 08080
SUMMARY:Employment Specialist Supplemental: Financial Literacy Training
END:VEVENT
END:VCALENDAR
