BEGIN:VCALENDAR
VERSION:2.0
PRODID:-//www.thearcfamilyinstitute.org//NONSGML kigkonsult.se iCalcreator 
 2.30.10//
CALSCALE:GREGORIAN
METHOD:PUBLISH
UID:2135363c-8721-4eec-9800-248fc34eb743
X-WR-CALDESC:This open house is for prospective campers\, returning campers
 \, families and service professionals. Join us and enjoy a tour of the cam
 pgrounds\, meet the new director and a free buffet luncheon.
X-WR-RELCALID:42e49b78ff9d7a2a8703e1c9986567a1
X-WR-TIMEZONE:America/New_York
BEGIN:VTIMEZONE
TZID:America/New_York
BEGIN:STANDARD
TZNAME:EST
DTSTART:20171105T020000
TZOFFSETFROM:-0400
TZOFFSETTO:-0500
RDATE:20181104T020000
RDATE:20191103T020000
END:STANDARD
BEGIN:DAYLIGHT
TZNAME:EDT
DTSTART:20180311T020000
TZOFFSETFROM:-0500
TZOFFSETTO:-0400
RDATE:20190310T020000
END:DAYLIGHT
END:VTIMEZONE
BEGIN:VEVENT
UID:b08ae4f1-50b8-4ef7-be42-6d30c543c7f9
DTSTAMP:20260423T143348Z
DESCRIPTION:This open house is for prospective campers\, returning campers\
 , families and service professionals. Join us and enjoy a tour of the camp
 grounds\, meet the new director and a free buffet luncheon.
DTSTART;TZID=America/New_York:20180603T120000
DTEND;TZID=America/New_York:20180603T150000
LOCATION:Camp Jacyee\, 223 Ziegler Road\, Effort PA 18330
SUMMARY:Open House at Camp Jaycee
END:VEVENT
END:VCALENDAR
