BEGIN:VCALENDAR
VERSION:2.0
PRODID:-//www.thearcfamilyinstitute.org//NONSGML kigkonsult.se iCalcreator 
 2.30.10//
CALSCALE:GREGORIAN
METHOD:PUBLISH
UID:766e69b7-44c1-4c60-98de-0af308a56bd3
X-WR-CALDESC:
X-WR-RELCALID:f9612812e5da94163dd44f1dbaac5507
X-WR-TIMEZONE:America/New_York
BEGIN:VTIMEZONE
TZID:America/New_York
BEGIN:STANDARD
TZNAME:EST
DTSTART:20171105T020000
TZOFFSETFROM:-0400
TZOFFSETTO:-0500
RDATE:20181104T020000
RDATE:20191103T020000
END:STANDARD
BEGIN:DAYLIGHT
TZNAME:EDT
DTSTART:20180311T020000
TZOFFSETFROM:-0500
TZOFFSETTO:-0400
RDATE:20190310T020000
END:DAYLIGHT
END:VTIMEZONE
BEGIN:VEVENT
UID:4f954e6e-5cc1-42fd-b30c-30fb21cc2e06
DTSTAMP:20260423T143425Z
DESCRIPTION:
DTSTART;TZID=America/New_York:20180601T083000
DTEND;TZID=America/New_York:20180601T130000
LOCATION:
SUMMARY:Education Partnership meeting-Monmouth County
END:VEVENT
END:VCALENDAR
