BEGIN:VCALENDAR
VERSION:2.0
PRODID:-//www.thearcfamilyinstitute.org//NONSGML kigkonsult.se iCalcreator 
 2.30.10//
CALSCALE:GREGORIAN
METHOD:PUBLISH
UID:411eacde-fbc4-4b0e-a6fb-16fc9799a52d
X-WR-CALDESC:This conference provides up-to-date information on best practi
 ces in providing medical\, dental\, and/or behavioral health care for indi
 viduals with I/DD\, as well as current information on programs\, policies 
 and services related to NJ Medicaid and the NJ Division of Developmental D
 isabilities (DDD).
X-WR-RELCALID:f37b5bc888953cbe683ae20a02ef71ef
X-WR-TIMEZONE:America/New_York
BEGIN:VTIMEZONE
TZID:America/New_York
BEGIN:STANDARD
TZNAME:EST
DTSTART:20171105T020000
TZOFFSETFROM:-0400
TZOFFSETTO:-0500
RDATE:20181104T020000
RDATE:20191103T020000
END:STANDARD
BEGIN:DAYLIGHT
TZNAME:EDT
DTSTART:20180311T020000
TZOFFSETFROM:-0500
TZOFFSETTO:-0400
RDATE:20190310T020000
END:DAYLIGHT
END:VTIMEZONE
BEGIN:VEVENT
UID:fb22d01b-04cb-48ce-a447-548e8384745d
DTSTAMP:20260423T143538Z
DESCRIPTION:This conference provides up-to-date information on best practic
 es in providing medical\, dental\, and/or behavioral health care for indiv
 iduals with I/DD\, as well as current information on programs\, policies a
 nd services related to NJ Medicaid and the NJ Division of Developmental Di
 sabilities (DDD).
DTSTART;TZID=America/New_York:20180601T090000
DTEND;TZID=America/New_York:20180601T150000
LOCATION:The Westin Princeton at Forrestal Village\, 201 Village Blvd\, Pri
 nceton\, NJ 08540
SUMMARY:29th Annual Conference on Medical Care for People with Intellectual
  & Developmental Disabilities
END:VEVENT
END:VCALENDAR
