BEGIN:VCALENDAR
VERSION:2.0
PRODID:-//www.thearcfamilyinstitute.org//NONSGML kigkonsult.se iCalcreator 
 2.30.10//
CALSCALE:GREGORIAN
METHOD:PUBLISH
UID:2fb8e1ed-19de-4512-ab7d-e8a3ce15817c
X-WR-CALDESC:Show in My Time Zone\nCenters for Independent Living\, many of
  them funded through the Division of Vocational Rehabilitation Services\, 
 in the Department of Labor & Workforce Development\, are community-based\,
  consumer-driven organizations that provide information and referral\, pee
 r counseling\, skills training\, advocacy and a variety of services based 
 on individual needs.\n\nOur presenter\, Luke Koppish\, the Deputy  Directo
 r for the Alliance Center for Independence will provide information on how
  these services connect individuals with disabilities to the community and
  the supports offered along the path to their future.
X-WR-RELCALID:e3c05ffb61b851488e624e81dc7ad363
X-WR-TIMEZONE:America/New_York
BEGIN:VTIMEZONE
TZID:America/New_York
BEGIN:STANDARD
TZNAME:EST
DTSTART:20171105T020000
TZOFFSETFROM:-0400
TZOFFSETTO:-0500
RDATE:20181104T020000
RDATE:20191103T020000
END:STANDARD
BEGIN:DAYLIGHT
TZNAME:EDT
DTSTART:20180311T020000
TZOFFSETFROM:-0500
TZOFFSETTO:-0400
RDATE:20190310T020000
END:DAYLIGHT
END:VTIMEZONE
BEGIN:VEVENT
UID:0e0e9089-5641-4123-882c-15d61ed0f815
DTSTAMP:20260423T161641Z
DESCRIPTION:Show in My Time Zone\nCenters for Independent Living\, many of 
 them funded through the Division of Vocational Rehabilitation Services\, i
 n the Department of Labor & Workforce Development\, are community-based\, 
 consumer-driven organizations that provide information and referral\, peer
  counseling\, skills training\, advocacy and a variety of services based o
 n individual needs.\n\nOur presenter\, Luke Koppish\, the Deputy  Director
  for the Alliance Center for Independence will provide information on how 
 these services connect individuals with disabilities to the community and 
 the supports offered along the path to their future.
DTSTART;TZID=America/New_York:20180523T180000
DTEND;TZID=America/New_York:20180523T190000
LOCATION:
SUMMARY:Free Webinar: Centers for Independent Living and How They Help Conn
 ect Individuals to Services and Supports
END:VEVENT
END:VCALENDAR
