BEGIN:VCALENDAR
VERSION:2.0
PRODID:-//www.thearcfamilyinstitute.org//NONSGML kigkonsult.se iCalcreator 
 2.30.10//
CALSCALE:GREGORIAN
METHOD:PUBLISH
UID:d04c10d2-a552-4d90-b1e9-f1d0a43d9f84
X-WR-CALDESC:
X-WR-RELCALID:1db11f77f6317dbfeaea2f24f476e251
X-WR-TIMEZONE:America/New_York
BEGIN:VTIMEZONE
TZID:America/New_York
BEGIN:STANDARD
TZNAME:EST
DTSTART:20171105T020000
TZOFFSETFROM:-0400
TZOFFSETTO:-0500
RDATE:20181104T020000
RDATE:20191103T020000
END:STANDARD
BEGIN:DAYLIGHT
TZNAME:EDT
DTSTART:20180311T020000
TZOFFSETFROM:-0500
TZOFFSETTO:-0400
RDATE:20190310T020000
END:DAYLIGHT
END:VTIMEZONE
BEGIN:VEVENT
UID:c4ee6a8c-f8f6-458f-bafe-8922878a0eeb
DTSTAMP:20260423T155718Z
DESCRIPTION:
DTSTART;TZID=America/New_York:20180522T100000
DTEND;TZID=America/New_York:20180522T120000
LOCATION:Family Support Organization of Middlesex County\, 1 Ethel Rd #108b
 \, Edison\, NJ 08817
SUMMARY:Sexuality and Youth with Developmental Disabilities (Middlesex)
END:VEVENT
END:VCALENDAR
