BEGIN:VCALENDAR
VERSION:2.0
PRODID:-//www.thearcfamilyinstitute.org//NONSGML kigkonsult.se iCalcreator 
 2.30.10//
CALSCALE:GREGORIAN
METHOD:PUBLISH
UID:3d9836a0-3e2b-4a80-8511-8f31f2827baf
X-WR-CALDESC:Trisomy 21 (Down syndrome) is the most common chromosomal cond
 ition in humans\, occurring in one of every 700 to 800 live births. Trisom
 y 21 is also the most complex genetic condition\, affecting many body syst
 ems\, including brain development and variably affecting each individual.
 \n\nChildren with Trisomy 21 are at higher risk for vision and eye problem
 s\, ear\, nose and throat problems including hearing loss\, congenital hea
 rt disease\, gastrointestinal and feeding problems\, endocrine disorders\,
  neurological and musculoskeletal issues\, and developmental and behaviora
 l challenges.\n\nThis one-day symposium will provide parents and healthcar
 e professionals with up-to-date clinical information\, therapeutic approac
 hes and advice on a variety of topics affecting children with Down syndrom
 e\, covering ages from young children to young adults.
X-WR-RELCALID:b19dd6d23764645277a0792a492cdb2f
X-WR-TIMEZONE:America/New_York
BEGIN:VTIMEZONE
TZID:America/New_York
BEGIN:STANDARD
TZNAME:EST
DTSTART:20171105T020000
TZOFFSETFROM:-0400
TZOFFSETTO:-0500
RDATE:20181104T020000
RDATE:20191103T020000
END:STANDARD
BEGIN:DAYLIGHT
TZNAME:EDT
DTSTART:20180311T020000
TZOFFSETFROM:-0500
TZOFFSETTO:-0400
RDATE:20190310T020000
END:DAYLIGHT
END:VTIMEZONE
BEGIN:VEVENT
UID:dcb4f83d-a2e2-4dab-93d3-d126c972f1bb
DTSTAMP:20260423T155727Z
DESCRIPTION:Trisomy 21 (Down syndrome) is the most common chromosomal condi
 tion in humans\, occurring in one of every 700 to 800 live births. Trisomy
  21 is also the most complex genetic condition\, affecting many body syste
 ms\, including brain development and variably affecting each individual.\n
 \nChildren with Trisomy 21 are at higher risk for vision and eye problems\
 , ear\, nose and throat problems including hearing loss\, congenital heart
  disease\, gastrointestinal and feeding problems\, endocrine disorders\, n
 eurological and musculoskeletal issues\, and developmental and behavioral 
 challenges.\n\nThis one-day symposium will provide parents and healthcare 
 professionals with up-to-date clinical information\, therapeutic approache
 s and advice on a variety of topics affecting children with Down syndrome\
 , covering ages from young children to young adults.
DTSTART;TZID=America/New_York:20180519T080000
DTEND;TZID=America/New_York:20180519T170000
LOCATION:Children's Hospital of Philadelphia\, 3401 Civic Center Blvd.\, Ph
 iladelphia\, PA 19104-4399
SUMMARY:Trisomy 21 Symposium (Philadelphia)
END:VEVENT
END:VCALENDAR
