BEGIN:VCALENDAR
VERSION:2.0
PRODID:-//www.thearcfamilyinstitute.org//NONSGML kigkonsult.se iCalcreator 
 2.30.10//
CALSCALE:GREGORIAN
METHOD:PUBLISH
UID:f3ce498c-c1c7-4413-a696-fe51a6d32bf5
X-WR-CALDESC:Presenters: \nBev Roberts\, Director\, Mainstreaming Medical C
 are Program\, The Arc of New Jersey\nCheryl Crick\, Coordinator\, Family A
 dvocacy and Advocacy Services\, The Arc of New Jersey\n\nThis presentation
  will begin with a brief overview of the Arc of New Jersey and its program
 s and services. We will then address many important SSI and Medicaid issue
 s that families may not be aware of\, such as:\n\n• What happens to SSI an
 d Medicaid when the parent of an individual with I/DD retires\, or becomes
  disabled\, or passes away?\n• What are the exceptions to DDD’s requiremen
 t on having Medicaid?\n• What are ABLE Accounts\, and how can these accoun
 ts be helpful?\n• What are PPP services and what is the process to access 
 those services?\n• What can families do if they are unable to locate a phy
 sician\, dentist\, or behavioral health provider within their child’s Medi
 caid HMO network?\n• What is a D-SNP and is it helpful for your child who 
 has both Medicare and Medicaid?
X-WR-RELCALID:fb30aef85c3d863c90f0d6248f3ca067
X-WR-TIMEZONE:America/New_York
BEGIN:VTIMEZONE
TZID:America/New_York
BEGIN:STANDARD
TZNAME:EST
DTSTART:20171105T020000
TZOFFSETFROM:-0400
TZOFFSETTO:-0500
RDATE:20181104T020000
RDATE:20191103T020000
END:STANDARD
BEGIN:DAYLIGHT
TZNAME:EDT
DTSTART:20180311T020000
TZOFFSETFROM:-0500
TZOFFSETTO:-0400
RDATE:20190310T020000
END:DAYLIGHT
END:VTIMEZONE
BEGIN:VEVENT
UID:4d3056bf-73e1-472e-bc62-b44c23cb88fb
DTSTAMP:20260423T160345Z
DESCRIPTION:Presenters: \nBev Roberts\, Director\, Mainstreaming Medical Ca
 re Program\, The Arc of New Jersey\nCheryl Crick\, Coordinator\, Family Ad
 vocacy and Advocacy Services\, The Arc of New Jersey\n\nThis presentation 
 will begin with a brief overview of the Arc of New Jersey and its programs
  and services. We will then address many important SSI and Medicaid issues
  that families may not be aware of\, such as:\n\n• What happens to SSI and
  Medicaid when the parent of an individual with I/DD retires\, or becomes 
 disabled\, or passes away?\n• What are the exceptions to DDD’s requirement
  on having Medicaid?\n• What are ABLE Accounts\, and how can these account
 s be helpful?\n• What are PPP services and what is the process to access t
 hose services?\n• What can families do if they are unable to locate a phys
 ician\, dentist\, or behavioral health provider within their child’s Medic
 aid HMO network?\n• What is a D-SNP and is it helpful for your child who h
 as both Medicare and Medicaid?
DTSTART;TZID=America/New_York:20180515T183000
DTEND;TZID=America/New_York:20180515T200000
LOCATION:BCSS Educational Facility\, 2nd Floor\, Training Room\, 540 Farvie
 w Avenue\, Paramus\, 07652
SUMMARY:Update on SSI and Medicaid for Individuals with Intellectual and De
 velopmental Disabilities (Bergen County)
END:VEVENT
END:VCALENDAR
