BEGIN:VCALENDAR
VERSION:2.0
PRODID:-//www.thearcfamilyinstitute.org//NONSGML kigkonsult.se iCalcreator 
 2.30.10//
CALSCALE:GREGORIAN
METHOD:PUBLISH
UID:b5db59d3-ac56-4e6e-84f1-29e0ea5e00e5
X-WR-CALDESC:Speaker:\nChuck Goldstein\, L.C.S.W\, CEO\nCGS Family Partners
 hip\, Inc.\nUnified Care Management Organization\n\nLight Dinner will be S
 erved\nDoor Prizes\nChild Care—Must Be Toilet Trained\nPre-Register to be 
 Entered in a Special Drawing for a Door Prize\nProvider Resource Tables Wi
 ll be Available\n\n
X-WR-RELCALID:1a8a72e99990cf8ffb88a494768e3768
X-WR-TIMEZONE:America/New_York
BEGIN:VTIMEZONE
TZID:America/New_York
BEGIN:STANDARD
TZNAME:EST
DTSTART:20171105T020000
TZOFFSETFROM:-0400
TZOFFSETTO:-0500
RDATE:20181104T020000
RDATE:20191103T020000
END:STANDARD
BEGIN:DAYLIGHT
TZNAME:EDT
DTSTART:20180311T020000
TZOFFSETFROM:-0500
TZOFFSETTO:-0400
RDATE:20190310T020000
END:DAYLIGHT
END:VTIMEZONE
BEGIN:VEVENT
UID:e656acb3-be80-4db6-b93b-bdc6ce7bb085
DTSTAMP:20260423T161111Z
DESCRIPTION:Speaker:\nChuck Goldstein\, L.C.S.W\, CEO\nCGS Family Partnersh
 ip\, Inc.\nUnified Care Management Organization\n\nLight Dinner will be Se
 rved\nDoor Prizes\nChild Care—Must Be Toilet Trained\nPre-Register to be E
 ntered in a Special Drawing for a Door Prize\nProvider Resource Tables Wil
 l be Available\n\n
DTSTART;TZID=America/New_York:20180515T180000
DTEND;TZID=America/New_York:20180515T203000
LOCATION:Sunshine Inn at Camp Sun ‘N Fun\, 1036 N. Tuckahoe Rd.\, Williamst
 own
SUMMARY:Accessing Services through Children’s System of Care/Perform Care (
 Gloucester County)
END:VEVENT
END:VCALENDAR
