BEGIN:VCALENDAR
VERSION:2.0
PRODID:-//www.thearcfamilyinstitute.org//NONSGML kigkonsult.se iCalcreator 
 2.30.10//
CALSCALE:GREGORIAN
METHOD:PUBLISH
UID:23b36716-658a-4922-80c7-3df68bb87e94
X-WR-CALDESC:In Celebration of Early Intervention Week 2018:\n\nThe relatio
 nship between brothers and sisters plays a very important role in the live
 s of both individuals with developmental disabilities and their siblings. 
 In growing up with a brother or sister with a disability\, the feelings an
 d challenges experienced by siblings are often overlooked.\n\nSupporting s
 iblings may help to increase their understanding of their brother or siste
 r’s special needs\, ease their stress and anxiety in situations that occur
  in day to day life\, support their emotional needs\, and build a strong\,
  loving\, relationship with their brother or sister.\n\nJoin Helpful Hands
  NREIC and The Arc of New Jersey Family Institute as we discuss the many j
 oys and challenges of growing up as a sibling of someone with a developmen
 tal disability.
X-WR-RELCALID:356c1c835e0c6f1402be2f66d8014d56
X-WR-TIMEZONE:America/New_York
BEGIN:VTIMEZONE
TZID:America/New_York
BEGIN:STANDARD
TZNAME:EST
DTSTART:20171105T020000
TZOFFSETFROM:-0400
TZOFFSETTO:-0500
RDATE:20181104T020000
RDATE:20191103T020000
END:STANDARD
BEGIN:DAYLIGHT
TZNAME:EDT
DTSTART:20180311T020000
TZOFFSETFROM:-0500
TZOFFSETTO:-0400
RDATE:20190310T020000
END:DAYLIGHT
END:VTIMEZONE
BEGIN:VEVENT
UID:66360ec4-1ff9-4b07-aa83-26289b883b9e
DTSTAMP:20260423T162219Z
DESCRIPTION:In Celebration of Early Intervention Week 2018:\n\nThe relation
 ship between brothers and sisters plays a very important role in the lives
  of both individuals with developmental disabilities and their siblings. I
 n growing up with a brother or sister with a disability\, the feelings and
  challenges experienced by siblings are often overlooked.\n\nSupporting si
 blings may help to increase their understanding of their brother or sister
 ’s special needs\, ease their stress and anxiety in situations that occur 
 in day to day life\, support their emotional needs\, and build a strong\, 
 loving\, relationship with their brother or sister.\n\nJoin Helpful Hands 
 NREIC and The Arc of New Jersey Family Institute as we discuss the many jo
 ys and challenges of growing up as a sibling of someone with a development
 al disability.
DTSTART;TZID=America/New_York:20180514T123000
DTEND;TZID=America/New_York:20180514T133000
LOCATION:
SUMMARY:Webinar: Supporting Siblings as They Grow: Meeting the Needs of Bro
 thers & Sisters of Children with Disabilities
END:VEVENT
END:VCALENDAR
