BEGIN:VCALENDAR
VERSION:2.0
PRODID:-//www.thearcfamilyinstitute.org//NONSGML kigkonsult.se iCalcreator 
 2.30.10//
CALSCALE:GREGORIAN
METHOD:PUBLISH
UID:36b436b0-ca0f-457a-b3f1-8329cb3ee888
X-WR-CALDESC:Employment specialists are often in difficult situations where
  decision making is challenged by opposing demands\, voices\, and values. 
 This session will explore the guidelines that should be used to ensure eth
 ical decision making by exploring our professional codes of ethics. Partic
 ipants will examine common ethical themes that should be utilized to guide
  decisions in their day-to-day work. Additionally\, they will be given amp
 le opportunity to apply an ethical decision making tool to challenging eth
 ical dilemmas in order to come to the best possible resolution.
X-WR-RELCALID:29f2a70b1efd1c9d5936cc11c4d93b1b
X-WR-TIMEZONE:America/New_York
BEGIN:VTIMEZONE
TZID:America/New_York
BEGIN:STANDARD
TZNAME:EST
DTSTART:20171105T020000
TZOFFSETFROM:-0400
TZOFFSETTO:-0500
RDATE:20181104T020000
RDATE:20191103T020000
END:STANDARD
BEGIN:DAYLIGHT
TZNAME:EDT
DTSTART:20180311T020000
TZOFFSETFROM:-0500
TZOFFSETTO:-0400
RDATE:20190310T020000
END:DAYLIGHT
END:VTIMEZONE
BEGIN:VEVENT
UID:ba06cbe9-2525-4cf3-9d4e-cd295046d98c
DTSTAMP:20260423T160508Z
DESCRIPTION:Employment specialists are often in difficult situations where 
 decision making is challenged by opposing demands\, voices\, and values. T
 his session will explore the guidelines that should be used to ensure ethi
 cal decision making by exploring our professional codes of ethics. Partici
 pants will examine common ethical themes that should be utilized to guide 
 decisions in their day-to-day work. Additionally\, they will be given ampl
 e opportunity to apply an ethical decision making tool to challenging ethi
 cal dilemmas in order to come to the best possible resolution.
DTSTART;TZID=America/New_York:20180514T100000
DTEND;TZID=America/New_York:20180514T120000
LOCATION:Hunterdon Library\, 314 State Route 12 - Bldg 3 Flemington\, NJ 08
 82
SUMMARY:Employment Specialist Supplemental: Ethical Issues in Supported Emp
 loyment
END:VEVENT
END:VCALENDAR
