BEGIN:VCALENDAR
VERSION:2.0
PRODID:-//www.thearcfamilyinstitute.org//NONSGML kigkonsult.se iCalcreator 
 2.30.10//
CALSCALE:GREGORIAN
METHOD:PUBLISH
UID:35993585-0a98-4c48-bba2-dbe29f8e4d76
X-WR-CALDESC:
X-WR-RELCALID:b3aa04bd893324a01066aa84f0c53761
X-WR-TIMEZONE:America/New_York
BEGIN:VTIMEZONE
TZID:America/New_York
BEGIN:STANDARD
TZNAME:EST
DTSTART:20171105T020000
TZOFFSETFROM:-0400
TZOFFSETTO:-0500
RDATE:20181104T020000
RDATE:20191103T020000
END:STANDARD
BEGIN:DAYLIGHT
TZNAME:EDT
DTSTART:20180311T020000
TZOFFSETFROM:-0500
TZOFFSETTO:-0400
RDATE:20190310T020000
END:DAYLIGHT
END:VTIMEZONE
BEGIN:VEVENT
UID:0c54509c-2009-4f71-9e2d-b88bb600cbc3
DTSTAMP:20260423T162254Z
DESCRIPTION:
DTSTART;TZID=America/New_York:20180511T150000
DTEND;TZID=America/New_York:20180511T190000
LOCATION:Allaire Community Farm\, 2840 Allaire Road\,  Wall Township\, NJ 0
 7719
SUMMARY:Monmouth County: NATIONAL CHILDREN'S MENTAL HEALTH AWARENESS DAY 20
 18
END:VEVENT
END:VCALENDAR
