BEGIN:VCALENDAR
VERSION:2.0
PRODID:-//www.thearcfamilyinstitute.org//NONSGML kigkonsult.se iCalcreator 
 2.30.10//
CALSCALE:GREGORIAN
METHOD:PUBLISH
UID:4740c858-f7c4-4b70-a24a-4d79837e9572
X-WR-CALDESC:Presented by: Jennifer Case\, NCG\, SCARC Guardianship Service
 s\, Inc\n\nLight Snacks will be served. Child care is available by request
  only.
X-WR-RELCALID:22d0b02524725d8cd71a9053eff70f87
X-WR-TIMEZONE:America/New_York
BEGIN:VTIMEZONE
TZID:America/New_York
BEGIN:STANDARD
TZNAME:EST
DTSTART:20171105T020000
TZOFFSETFROM:-0400
TZOFFSETTO:-0500
RDATE:20181104T020000
RDATE:20191103T020000
END:STANDARD
BEGIN:DAYLIGHT
TZNAME:EDT
DTSTART:20180311T020000
TZOFFSETFROM:-0500
TZOFFSETTO:-0400
RDATE:20190310T020000
END:DAYLIGHT
END:VTIMEZONE
BEGIN:VEVENT
UID:63c6d5b8-6591-4891-b460-208841f161a4
DTSTAMP:20260423T162656Z
DESCRIPTION:Presented by: Jennifer Case\, NCG\, SCARC Guardianship Services
 \, Inc\n\nLight Snacks will be served. Child care is available by request 
 only.
DTSTART;TZID=America/New_York:20180508T183000
DTEND;TZID=America/New_York:20180508T200000
LOCATION:SCARC Hampton Community Center\, 4 Camre Drive\, Newton\, NJ 07860
SUMMARY:SCARC (The Arc of Sussex County): The Guardianship Process in 2018 
 The Client’s Needs and the Court’s Requirements
END:VEVENT
END:VCALENDAR
