BEGIN:VCALENDAR
VERSION:2.0
PRODID:-//www.thearcfamilyinstitute.org//NONSGML kigkonsult.se iCalcreator 
 2.30.10//
CALSCALE:GREGORIAN
METHOD:PUBLISH
UID:9d8edce6-25af-4c5b-b3e8-0077336ab065
X-WR-CALDESC:Assisting individuals with disabilities as they navigate the s
 ocial expectations at the workplace is always a challenge\, but when situa
 tions of a sexual nature arise\, the challenge becomes more complex. This 
 supplemental will provide professionals with a social and educational cont
 ext for why these issues present themselves in the workplace. Participants
  will leave with tools to appropriately respond to these situations while 
 simultaneously supporting healthy sexuality for the people we serve.
X-WR-RELCALID:17ca8e77a66db19ec90d6264cccb9ffe
X-WR-TIMEZONE:America/New_York
BEGIN:VTIMEZONE
TZID:America/New_York
BEGIN:STANDARD
TZNAME:EST
DTSTART:20171105T020000
TZOFFSETFROM:-0400
TZOFFSETTO:-0500
RDATE:20181104T020000
RDATE:20191103T020000
END:STANDARD
BEGIN:DAYLIGHT
TZNAME:EDT
DTSTART:20180311T020000
TZOFFSETFROM:-0500
TZOFFSETTO:-0400
RDATE:20190310T020000
END:DAYLIGHT
END:VTIMEZONE
BEGIN:VEVENT
UID:6736569b-ba78-4d95-a980-c376a20cf231
DTSTAMP:20260423T161137Z
DESCRIPTION:Assisting individuals with disabilities as they navigate the so
 cial expectations at the workplace is always a challenge\, but when situat
 ions of a sexual nature arise\, the challenge becomes more complex. This s
 upplemental will provide professionals with a social and educational conte
 xt for why these issues present themselves in the workplace. Participants 
 will leave with tools to appropriately respond to these situations while s
 imultaneously supporting healthy sexuality for the people we serve.
DTSTART;TZID=America/New_York:20180507T100000
DTEND;TZID=America/New_York:20180507T120000
LOCATION:Hunterdon Library\, 314 State Route 12 - Bldg 3 Flemington\, NJ 08
 82
SUMMARY:Employment Specialist Supplemental: Social/Sexual Challenges at the
  Workplace
END:VEVENT
END:VCALENDAR
