BEGIN:VCALENDAR
VERSION:2.0
PRODID:-//www.thearcfamilyinstitute.org//NONSGML kigkonsult.se iCalcreator 
 2.30.10//
CALSCALE:GREGORIAN
METHOD:PUBLISH
UID:7e412c88-d181-4100-9989-2fc6414c393b
X-WR-CALDESC:Trenton Mercer Airport invites families with children diagnose
 d with autism to participate in a “practice run” to prepare for travel. He
 re is an opportunity to guide your child through the check-in\, security\,
  waiting and baggage claim part of travel in a calm and reassuring atmosph
 ere. All you need to do is register using the email below\, complete requi
 red TSA documents ( you will be issued a prototype boarding pass)\, bring 
 a small suitcase to check and have your child bring a packed backpack Furt
 her information will be provided upon registration.
X-WR-RELCALID:15ab02499f6c18ab9a6bb308794c4422
X-WR-TIMEZONE:America/New_York
BEGIN:VTIMEZONE
TZID:America/New_York
BEGIN:STANDARD
TZNAME:EST
DTSTART:20171105T020000
TZOFFSETFROM:-0400
TZOFFSETTO:-0500
RDATE:20181104T020000
RDATE:20191103T020000
END:STANDARD
BEGIN:DAYLIGHT
TZNAME:EDT
DTSTART:20180311T020000
TZOFFSETFROM:-0500
TZOFFSETTO:-0400
RDATE:20190310T020000
END:DAYLIGHT
END:VTIMEZONE
BEGIN:VEVENT
UID:3f45e6ed-5459-40a5-88ac-71d1ade940a2
DTSTAMP:20260423T162333Z
DESCRIPTION:Trenton Mercer Airport invites families with children diagnosed
  with autism to participate in a “practice run” to prepare for travel. Her
 e is an opportunity to guide your child through the check-in\, security\, 
 waiting and baggage claim part of travel in a calm and reassuring atmosphe
 re. All you need to do is register using the email below\, complete requir
 ed TSA documents ( you will be issued a prototype boarding pass)\, bring a
  small suitcase to check and have your child bring a packed backpack Furth
 er information will be provided upon registration.
DTSTART;TZID=America/New_York:20180506T070000
DTEND;TZID=America/New_York:20180506T083000
LOCATION:Trenton Mercer Airport
SUMMARY:TTN “L.I.F.T.” For Autism Let’s Investigate Flying Together
END:VEVENT
END:VCALENDAR
