BEGIN:VCALENDAR
VERSION:2.0
PRODID:-//www.thearcfamilyinstitute.org//NONSGML kigkonsult.se iCalcreator 
 2.30.10//
CALSCALE:GREGORIAN
METHOD:PUBLISH
UID:c4e67f5a-ecee-4d4b-83a4-e2141cc06a41
X-WR-CALDESC:We will be discussing how to have difficult conversations with
  neurotypical children and/or parents regarding challenges that arise when
  there is a child/adult in the family with a disability\, and how families
  can best work together to support their family member and one another in 
 the process.
X-WR-RELCALID:c04e000a5926b4ac21ec1bfc47d03f91
X-WR-TIMEZONE:America/New_York
BEGIN:VTIMEZONE
TZID:America/New_York
BEGIN:STANDARD
TZNAME:EST
DTSTART:20171105T020000
TZOFFSETFROM:-0400
TZOFFSETTO:-0500
RDATE:20181104T020000
END:STANDARD
BEGIN:DAYLIGHT
TZNAME:EDT
DTSTART:20180311T020000
TZOFFSETFROM:-0500
TZOFFSETTO:-0400
RDATE:20190310T020000
END:DAYLIGHT
END:VTIMEZONE
BEGIN:VEVENT
UID:d698df8d-60dd-4c71-a190-319644226b3b
DTSTAMP:20260423T155541Z
DESCRIPTION:We will be discussing how to have difficult conversations with 
 neurotypical children and/or parents regarding challenges that arise when 
 there is a child/adult in the family with a disability\, and how families 
 can best work together to support their family member and one another in t
 he process.
DTSTART;TZID=America/New_York:20180501T180000
DTEND;TZID=America/New_York:20180501T200000
LOCATION:The Cape Center\, Paramus\, NJ
SUMMARY:Free Workshop: Having Difficult Conversations: Siblings & Disabilit
 y (Bergen County)
END:VEVENT
END:VCALENDAR
