BEGIN:VCALENDAR
VERSION:2.0
PRODID:-//www.thearcfamilyinstitute.org//NONSGML kigkonsult.se iCalcreator 
 2.30.10//
CALSCALE:GREGORIAN
METHOD:PUBLISH
UID:3885d8b2-0461-43b5-bd88-bc963cc3218d
X-WR-CALDESC:Light snacks will be served. Child care is available by reques
 t only.
X-WR-RELCALID:f221abf5a5dd516c6badf502ff6bcbbd
X-WR-TIMEZONE:America/New_York
BEGIN:VTIMEZONE
TZID:America/New_York
BEGIN:STANDARD
TZNAME:EST
DTSTART:20171105T020000
TZOFFSETFROM:-0400
TZOFFSETTO:-0500
RDATE:20181104T020000
END:STANDARD
BEGIN:DAYLIGHT
TZNAME:EDT
DTSTART:20180311T020000
TZOFFSETFROM:-0500
TZOFFSETTO:-0400
RDATE:20190310T020000
END:DAYLIGHT
END:VTIMEZONE
BEGIN:VEVENT
UID:d272fc4d-0abb-4000-be7d-146eece4b0fb
DTSTAMP:20260423T174227Z
DESCRIPTION:Light snacks will be served. Child care is available by request
  only.
DTSTART;TZID=America/New_York:20180425T183000
DTEND;TZID=America/New_York:20180425T193000
LOCATION:SCARC Community Center\, 4 Camre Drive\, Newton\, NJ
SUMMARY:Medicaid\, SSI and other Important Entitlements (The Arc of Sussex\
 , SCARC)
END:VEVENT
END:VCALENDAR
