BEGIN:VCALENDAR
VERSION:2.0
PRODID:-//www.thearcfamilyinstitute.org//NONSGML kigkonsult.se iCalcreator 
 2.30.10//
CALSCALE:GREGORIAN
METHOD:PUBLISH
UID:9d069dbe-8edf-427f-a246-a80c39313c9e
X-WR-CALDESC:
X-WR-RELCALID:e86af896865dfc2fe45cf85d26eb03ed
X-WR-TIMEZONE:America/New_York
BEGIN:VTIMEZONE
TZID:America/New_York
BEGIN:STANDARD
TZNAME:EST
DTSTART:20171105T020000
TZOFFSETFROM:-0400
TZOFFSETTO:-0500
RDATE:20181104T020000
END:STANDARD
BEGIN:DAYLIGHT
TZNAME:EDT
DTSTART:20180311T020000
TZOFFSETFROM:-0500
TZOFFSETTO:-0400
RDATE:20190310T020000
END:DAYLIGHT
END:VTIMEZONE
BEGIN:VEVENT
UID:31ea6ced-adb1-4636-a26d-b2d8b72d930f
DTSTAMP:20260423T174358Z
DESCRIPTION:
DTSTART;TZID=America/New_York:20180424T190000
DTEND;TZID=America/New_York:20180424T203000
LOCATION:BCSS Education Center\, Second Floor Traning Room\, 540 Farview Av
 e.\, Paramus\, NJ 0765
SUMMARY:Increasing Communication in Children with ASD for Parents/Caregiver
 s of Preschool and Elementary School-Aged Children (Bergen County)
END:VEVENT
END:VCALENDAR
