BEGIN:VCALENDAR
VERSION:2.0
PRODID:-//www.thearcfamilyinstitute.org//NONSGML kigkonsult.se iCalcreator 
 2.30.10//
CALSCALE:GREGORIAN
METHOD:PUBLISH
UID:1bf5e26f-3205-4cb6-aace-f4d6f5b2e770
X-WR-CALDESC:
X-WR-RELCALID:76b9213347d442e66e1f1b7fd2bb4728
X-WR-TIMEZONE:America/New_York
BEGIN:VTIMEZONE
TZID:America/New_York
BEGIN:STANDARD
TZNAME:EST
DTSTART:20171105T020000
TZOFFSETFROM:-0400
TZOFFSETTO:-0500
RDATE:20181104T020000
END:STANDARD
BEGIN:DAYLIGHT
TZNAME:EDT
DTSTART:20180311T020000
TZOFFSETFROM:-0500
TZOFFSETTO:-0400
RDATE:20190310T020000
END:DAYLIGHT
END:VTIMEZONE
BEGIN:VEVENT
UID:29a593eb-86f1-4dd3-ab6b-5bbab0387c8f
DTSTAMP:20260423T173755Z
DESCRIPTION:
DTSTART;TZID=America/New_York:20180421T100000
DTEND;TZID=America/New_York:20180421T130000
LOCATION:Cape May County Special Services School District\, 148 Crest Haven
  Drive\, Cape May Court House\, 08223
SUMMARY:Cape May County Public Spring Forum & Provider Fair
END:VEVENT
END:VCALENDAR
