BEGIN:VCALENDAR
VERSION:2.0
PRODID:-//www.thearcfamilyinstitute.org//NONSGML kigkonsult.se iCalcreator 
 2.30.10//
CALSCALE:GREGORIAN
METHOD:PUBLISH
UID:6c0d072b-6ef1-46d7-98e6-451596826b3b
X-WR-CALDESC:
X-WR-RELCALID:f724b7938c3b1bc9498339da36a39417
X-WR-TIMEZONE:America/New_York
BEGIN:VTIMEZONE
TZID:America/New_York
BEGIN:STANDARD
TZNAME:EST
DTSTART:20171105T020000
TZOFFSETFROM:-0400
TZOFFSETTO:-0500
RDATE:20181104T020000
END:STANDARD
BEGIN:DAYLIGHT
TZNAME:EDT
DTSTART:20180311T020000
TZOFFSETFROM:-0500
TZOFFSETTO:-0400
RDATE:20190310T020000
END:DAYLIGHT
END:VTIMEZONE
BEGIN:VEVENT
UID:c4f048c2-7ec9-4978-a42e-92b25bae73f9
DTSTAMP:20260423T174052Z
DESCRIPTION:
DTSTART;TZID=America/New_York:20180419T180000
DTEND;TZID=America/New_York:20180419T210000
LOCATION:The Arc of Somerset  141 S. Main Street\, MAnville\, 08835
SUMMARY:IEP Review-The Arc of Somerset
END:VEVENT
END:VCALENDAR
