BEGIN:VCALENDAR
VERSION:2.0
PRODID:-//www.thearcfamilyinstitute.org//NONSGML kigkonsult.se iCalcreator 
 2.30.10//
CALSCALE:GREGORIAN
METHOD:PUBLISH
UID:c9607e53-dfc4-4a93-bcdc-d6de31c64620
X-WR-CALDESC:Join The Arc of New Jersey's Planning for Adult Life Program f
 or free monthly webinars on topics important to your child's transition to
  adult life.
X-WR-RELCALID:e6e23cfa49984308d5e6945f3ec1baac
X-WR-TIMEZONE:America/New_York
BEGIN:VTIMEZONE
TZID:America/New_York
BEGIN:STANDARD
TZNAME:EST
DTSTART:20171105T020000
TZOFFSETFROM:-0400
TZOFFSETTO:-0500
RDATE:20181104T020000
END:STANDARD
BEGIN:DAYLIGHT
TZNAME:EDT
DTSTART:20180311T020000
TZOFFSETFROM:-0500
TZOFFSETTO:-0400
RDATE:20190310T020000
END:DAYLIGHT
END:VTIMEZONE
BEGIN:VEVENT
UID:0a93a35b-6588-4f9e-acc9-941a210f6b39
DTSTAMP:20260423T174205Z
DESCRIPTION:Join The Arc of New Jersey's Planning for Adult Life Program fo
 r free monthly webinars on topics important to your child's transition to 
 adult life.
DTSTART;TZID=America/New_York:20180418T180000
DTEND;TZID=America/New_York:20180418T190000
LOCATION:
SUMMARY:Free Webinar: Planning for Adult Life Webinar Wednesdays
END:VEVENT
END:VCALENDAR
