BEGIN:VCALENDAR
VERSION:2.0
PRODID:-//www.thearcfamilyinstitute.org//NONSGML kigkonsult.se iCalcreator 
 2.30.10//
CALSCALE:GREGORIAN
METHOD:PUBLISH
UID:c2b80627-5b8a-4772-9d81-82d67ea71385
X-WR-CALDESC:The Internet has dramatically changed the way we interact with
  the world. It has become a global means of communication in our every day
  life. However the internet can also put people at risk for cyberbullying\
 , exposure to inappropriate material\, online predators and the possibilit
 y of revealing too much personal information.  \n\nHosted by The Arc of Ne
 w Jersey Family Institute and presented by Ashley Ritchey\, Director of th
 e New Jersey Self-Advocacy Project\, attendees will learn about internet s
 afety and how to best support individuals with intellectual and developmen
 tal disabilities on the internet.
X-WR-RELCALID:dc9f703e259fd290d92253b696e07bef
X-WR-TIMEZONE:America/New_York
BEGIN:VTIMEZONE
TZID:America/New_York
BEGIN:STANDARD
TZNAME:EST
DTSTART:20171105T020000
TZOFFSETFROM:-0400
TZOFFSETTO:-0500
RDATE:20181104T020000
END:STANDARD
BEGIN:DAYLIGHT
TZNAME:EDT
DTSTART:20180311T020000
TZOFFSETFROM:-0500
TZOFFSETTO:-0400
RDATE:20190310T020000
END:DAYLIGHT
END:VTIMEZONE
BEGIN:VEVENT
UID:578c5d71-d3bf-4737-917c-b68612403f11
DTSTAMP:20260423T173923Z
DESCRIPTION:The Internet has dramatically changed the way we interact with 
 the world. It has become a global means of communication in our every day 
 life. However the internet can also put people at risk for cyberbullying\,
  exposure to inappropriate material\, online predators and the possibility
  of revealing too much personal information.  \n\nHosted by The Arc of New
  Jersey Family Institute and presented by Ashley Ritchey\, Director of the
  New Jersey Self-Advocacy Project\, attendees will learn about internet sa
 fety and how to best support individuals with intellectual and development
 al disabilities on the internet.
DTSTART;TZID=America/New_York:20180417T120000
DTEND;TZID=America/New_York:20180417T130000
LOCATION:
SUMMARY:Free Webinar: Understanding Internet Safety for People with  Intell
 ectual and  Developmental Disabilities
END:VEVENT
END:VCALENDAR
