BEGIN:VCALENDAR
VERSION:2.0
PRODID:-//www.thearcfamilyinstitute.org//NONSGML kigkonsult.se iCalcreator 
 2.30.10//
CALSCALE:GREGORIAN
METHOD:PUBLISH
UID:daa8da7e-bf59-4fe7-8a3e-211e753c5f3f
X-WR-CALDESC:Light snacks will be served. Child care is available by reques
 t only.
X-WR-RELCALID:d324d3d16edba6d7981abfbc5ae0852e
X-WR-TIMEZONE:America/New_York
BEGIN:VTIMEZONE
TZID:America/New_York
BEGIN:STANDARD
TZNAME:EST
DTSTART:20171105T020000
TZOFFSETFROM:-0400
TZOFFSETTO:-0500
RDATE:20181104T020000
END:STANDARD
BEGIN:DAYLIGHT
TZNAME:EDT
DTSTART:20180311T020000
TZOFFSETFROM:-0500
TZOFFSETTO:-0400
RDATE:20190310T020000
END:DAYLIGHT
END:VTIMEZONE
BEGIN:VEVENT
UID:8fca11a7-e25d-4f12-a47d-7445f8682e79
DTSTAMP:20260423T174037Z
DESCRIPTION:Light snacks will be served. Child care is available by request
  only.
DTSTART;TZID=America/New_York:20180417T183000
DTEND;TZID=America/New_York:20180417T193000
LOCATION:SCARC Community Center\, 4 Camre Drive\, Newton
SUMMARY:Bullying Issues Workshop (The Arc of Sussex\, SCARC)
END:VEVENT
END:VCALENDAR
