BEGIN:VCALENDAR
VERSION:2.0
PRODID:-//www.thearcfamilyinstitute.org//NONSGML kigkonsult.se iCalcreator 
 2.30.10//
CALSCALE:GREGORIAN
METHOD:PUBLISH
UID:83894d14-acea-46ac-a5a7-6c0f9554b739
X-WR-CALDESC:
X-WR-RELCALID:ce8cd2e12ca33c074502bc5d2c471a22
X-WR-TIMEZONE:America/New_York
BEGIN:VTIMEZONE
TZID:America/New_York
BEGIN:STANDARD
TZNAME:EST
DTSTART:20171105T020000
TZOFFSETFROM:-0400
TZOFFSETTO:-0500
RDATE:20181104T020000
END:STANDARD
BEGIN:DAYLIGHT
TZNAME:EDT
DTSTART:20180311T020000
TZOFFSETFROM:-0500
TZOFFSETTO:-0400
RDATE:20190310T020000
END:DAYLIGHT
END:VTIMEZONE
BEGIN:VEVENT
UID:ed7fb51a-8cb5-4779-9dd8-0c3325641e4b
DTSTAMP:20260423T174417Z
DESCRIPTION:
DTSTART;TZID=America/New_York:20180417T190000
DTEND;TZID=America/New_York:20180417T203000
LOCATION:BCSS Education Center\, Second Floor Traning Room\, 540 Farview Av
 e.\, Paramus\, NJ 0765
SUMMARY:Addressing Challenging Behaviors in the Community for Parents/Careg
 ivers of Preschool and Elementary School-Aged Children (Bergen County)
END:VEVENT
END:VCALENDAR
