BEGIN:VCALENDAR
VERSION:2.0
PRODID:-//www.thearcfamilyinstitute.org//NONSGML kigkonsult.se iCalcreator 
 2.30.10//
CALSCALE:GREGORIAN
METHOD:PUBLISH
UID:29cb722e-63f9-4d34-9698-58b8d734873b
X-WR-CALDESC:
X-WR-RELCALID:21965ec611d4d2eea267705a1c99ba30
X-WR-TIMEZONE:America/New_York
BEGIN:VTIMEZONE
TZID:America/New_York
BEGIN:STANDARD
TZNAME:EST
DTSTART:20171105T020000
TZOFFSETFROM:-0400
TZOFFSETTO:-0500
RDATE:20181104T020000
END:STANDARD
BEGIN:DAYLIGHT
TZNAME:EDT
DTSTART:20180311T020000
TZOFFSETFROM:-0500
TZOFFSETTO:-0400
RDATE:20190310T020000
END:DAYLIGHT
END:VTIMEZONE
BEGIN:VEVENT
UID:a7ef2dd0-f054-4a66-a21e-ac3367536f6f
DTSTAMP:20260423T173826Z
DESCRIPTION:
DTSTART;TZID=America/New_York:20180416T113000
DTEND;TZID=America/New_York:20180416T143000
LOCATION:Voorhees Town Center 2120 Voorhees Town Center\, Voorhees Township
 \, NJ 08043\, USA
SUMMARY:Provider Fair: Camden County
END:VEVENT
END:VCALENDAR
