BEGIN:VCALENDAR
VERSION:2.0
PRODID:-//www.thearcfamilyinstitute.org//NONSGML kigkonsult.se iCalcreator 
 2.30.10//
CALSCALE:GREGORIAN
METHOD:PUBLISH
UID:65ce2c13-6197-41ea-b026-ca7936d9579b
X-WR-CALDESC:
X-WR-RELCALID:c736270c7367edaade6286ba108e86a3
X-WR-TIMEZONE:America/New_York
BEGIN:VTIMEZONE
TZID:America/New_York
BEGIN:STANDARD
TZNAME:EST
DTSTART:20171105T020000
TZOFFSETFROM:-0400
TZOFFSETTO:-0500
RDATE:20181104T020000
END:STANDARD
BEGIN:DAYLIGHT
TZNAME:EDT
DTSTART:20180311T020000
TZOFFSETFROM:-0500
TZOFFSETTO:-0400
RDATE:20190310T020000
END:DAYLIGHT
END:VTIMEZONE
BEGIN:VEVENT
UID:0338772d-7efe-48e9-9a05-a0d3e2e57751
DTSTAMP:20260423T173923Z
DESCRIPTION:
DTSTART;TZID=America/New_York:20180413T083000
DTEND;TZID=America/New_York:20180413T130000
LOCATION:
SUMMARY:Education Partnership meeting-Monmouth County
END:VEVENT
END:VCALENDAR
