BEGIN:VCALENDAR
VERSION:2.0
PRODID:-//www.thearcfamilyinstitute.org//NONSGML kigkonsult.se iCalcreator 
 2.30.10//
CALSCALE:GREGORIAN
METHOD:PUBLISH
UID:56d05da1-f4dc-4f9a-8b32-d9e40fd99cea
X-WR-CALDESC:
X-WR-RELCALID:ead0c2c81b5cef2466c6b16b768fd005
X-WR-TIMEZONE:America/New_York
BEGIN:VTIMEZONE
TZID:America/New_York
BEGIN:STANDARD
TZNAME:EST
DTSTART:20171105T020000
TZOFFSETFROM:-0400
TZOFFSETTO:-0500
RDATE:20181104T020000
END:STANDARD
BEGIN:DAYLIGHT
TZNAME:EDT
DTSTART:20180311T020000
TZOFFSETFROM:-0500
TZOFFSETTO:-0400
RDATE:20190310T020000
END:DAYLIGHT
END:VTIMEZONE
BEGIN:VEVENT
UID:ae24690c-e3f3-4dcd-bf6c-4b21679aa3a5
DTSTAMP:20260423T173906Z
DESCRIPTION:
DTSTART;TZID=America/New_York:20180412T180000
DTEND;TZID=America/New_York:20180412T210000
LOCATION:The Arc Gloucester Sunshine Inn\, Camp Sun N' Fun 1036 N. Tuckahoe
  Road\, Williamstown NJ\, 08094
SUMMARY:IEP REview- The Arc Gloucester
END:VEVENT
END:VCALENDAR
