BEGIN:VCALENDAR
VERSION:2.0
PRODID:-//www.thearcfamilyinstitute.org//NONSGML kigkonsult.se iCalcreator 
 2.30.10//
CALSCALE:GREGORIAN
METHOD:PUBLISH
UID:ce3ac025-d0f5-4b2d-b54a-f792f3265ddd
X-WR-CALDESC:
X-WR-RELCALID:75dfe93f9645fbb66918efb64bb0ebaa
X-WR-TIMEZONE:America/New_York
BEGIN:VTIMEZONE
TZID:America/New_York
BEGIN:STANDARD
TZNAME:EST
DTSTART:20171105T020000
TZOFFSETFROM:-0400
TZOFFSETTO:-0500
RDATE:20181104T020000
END:STANDARD
BEGIN:DAYLIGHT
TZNAME:EDT
DTSTART:20180311T020000
TZOFFSETFROM:-0500
TZOFFSETTO:-0400
RDATE:20190310T020000
END:DAYLIGHT
END:VTIMEZONE
BEGIN:VEVENT
UID:217e5791-9893-4c0e-8019-26545860a905
DTSTAMP:20260423T174358Z
DESCRIPTION:
DTSTART;TZID=America/New_York:20180410T190000
DTEND;TZID=America/New_York:20180410T203000
LOCATION:BCSS Education Center\, Second Floor Traning Room\, 540 Farview Av
 e.\, Paramus\, NJ 0765
SUMMARY:Helping Your Child Develop Independent Skills for Parents/Caregiver
 s of Preschool and Elementary School-Aged Children  (Bergen County)
END:VEVENT
END:VCALENDAR
