BEGIN:VCALENDAR
VERSION:2.0
PRODID:-//www.thearcfamilyinstitute.org//NONSGML kigkonsult.se iCalcreator 
 2.30.10//
CALSCALE:GREGORIAN
METHOD:PUBLISH
UID:73ded374-b124-4f98-b2a5-30d41fe6d90e
X-WR-CALDESC:The relationship between siblings plays a very important role 
 in the lives of individuals with intellectual and developmental disabiliti
 es (I/DD). As they care for their brother or sister with I/DD they are oft
 en overlooked as needing support themselves. Supporting siblings may help 
 ease anxiety and make them feel comfortable in their role as a caregiver. 
  \n\nJoin The Arc of New Jersey Family Institute  as we discuss the many j
 oys and concerns of being a sibling of someone with an intellectual and de
 velopmental disability.
X-WR-RELCALID:3e06162777e13fd447b31c9137686c7f
X-WR-TIMEZONE:America/New_York
BEGIN:VTIMEZONE
TZID:America/New_York
BEGIN:STANDARD
TZNAME:EST
DTSTART:20171105T020000
TZOFFSETFROM:-0400
TZOFFSETTO:-0500
RDATE:20181104T020000
END:STANDARD
BEGIN:DAYLIGHT
TZNAME:EDT
DTSTART:20180311T020000
TZOFFSETFROM:-0500
TZOFFSETTO:-0400
RDATE:20190310T020000
END:DAYLIGHT
END:VTIMEZONE
BEGIN:VEVENT
UID:ef80f67b-7605-4da4-863c-e787448aeec5
DTSTAMP:20260423T173608Z
DESCRIPTION:The relationship between siblings plays a very important role i
 n the lives of individuals with intellectual and developmental disabilitie
 s (I/DD). As they care for their brother or sister with I/DD they are ofte
 n overlooked as needing support themselves. Supporting siblings may help e
 ase anxiety and make them feel comfortable in their role as a caregiver.  
 \n\nJoin The Arc of New Jersey Family Institute  as we discuss the many jo
 ys and concerns of being a sibling of someone with an intellectual and dev
 elopmental disability.
DTSTART;TZID=America/New_York:20180410T120000
DTEND;TZID=America/New_York:20180410T130000
LOCATION:
SUMMARY:Free Webinar: Understanding the Sibling Experience
END:VEVENT
END:VCALENDAR
